BEGIN:VCALENDAR
VERSION:2.0
PRODID:-//Fade Club - ECPv6.15.20//NONSGML v1.0//EN
CALSCALE:GREGORIAN
METHOD:PUBLISH
X-WR-CALNAME:Fade Club
X-ORIGINAL-URL:https://www.fade-club.de
X-WR-CALDESC:Veranstaltungen für Fade Club
REFRESH-INTERVAL;VALUE=DURATION:PT1H
X-Robots-Tag:noindex
X-PUBLISHED-TTL:PT1H
BEGIN:VTIMEZONE
TZID:Europe/Berlin
BEGIN:DAYLIGHT
TZOFFSETFROM:+0100
TZOFFSETTO:+0200
TZNAME:CEST
DTSTART:20240331T010000
END:DAYLIGHT
BEGIN:STANDARD
TZOFFSETFROM:+0200
TZOFFSETTO:+0100
TZNAME:CET
DTSTART:20241027T010000
END:STANDARD
BEGIN:DAYLIGHT
TZOFFSETFROM:+0100
TZOFFSETTO:+0200
TZNAME:CEST
DTSTART:20250330T010000
END:DAYLIGHT
BEGIN:STANDARD
TZOFFSETFROM:+0200
TZOFFSETTO:+0100
TZNAME:CET
DTSTART:20251026T010000
END:STANDARD
BEGIN:DAYLIGHT
TZOFFSETFROM:+0100
TZOFFSETTO:+0200
TZNAME:CEST
DTSTART:20260329T010000
END:DAYLIGHT
BEGIN:STANDARD
TZOFFSETFROM:+0200
TZOFFSETTO:+0100
TZNAME:CET
DTSTART:20261025T010000
END:STANDARD
END:VTIMEZONE
BEGIN:VEVENT
DTSTART;TZID=Europe/Berlin:20251004T235900
DTEND;TZID=Europe/Berlin:20251005T050000
DTSTAMP:20260425T134949
CREATED:20250929T154104Z
LAST-MODIFIED:20250929T161311Z
UID:2634-1759622340-1759640400@www.fade-club.de
SUMMARY:Blank "notorious nightclub"
DESCRIPTION:Oskar Knickelbein delivers pounding basslines\, hypnotic grooves\, and uncompromising techno. With a sharp sense for dark atmospheres and relentless energy\, his sets transform the dancefloor into a pulsating frenzy. Raw\, direct\, and always on point. \nCell:y b2b kitsune and namor will take the rest of the night on a journey of full musical freedom\, exploring the new club and its spheres itself. \nBOX OFFICE ONLY!
URL:https://www.fade-club.de/event/blank-notorious-nightclub/
LOCATION:Fade Club\, Am Hawerkamp 31\, Münster\, Nordrhein-Westfalen\, 48155\, Germany
ATTACH;FMTTYPE=image/png:https://www.fade-club.de/wp-content/uploads/2025/09/VA-9_16.png
END:VEVENT
BEGIN:VEVENT
DTSTART;TZID=Europe/Berlin:20251025T235900
DTEND;TZID=Europe/Berlin:20251026T050000
DTSTAMP:20260425T134949
CREATED:20251021T153732Z
LAST-MODIFIED:20251021T163828Z
UID:2720-1761436740-1761454800@www.fade-club.de
SUMMARY:FADE Club Night
DESCRIPTION:The second edition of our signature club night is coming your way – featuring both familiar and fresh faces. Three Münster-based artists will showcase their sound\, blending hypnotic grooves\, spicy rhythms\, and hot tunes to create a wholesome night of techno.\nCatch fresh faces Aylinnja & Kyub making their FADE debut\, alongside the well-known Delm – all for just €7 at the box office. Doors open at 11:59 PM.
URL:https://www.fade-club.de/event/fade-club-night/
LOCATION:Fade Club\, Am Hawerkamp 31\, Münster\, Nordrhein-Westfalen\, 48155\, Germany
ATTACH;FMTTYPE=image/png:https://www.fade-club.de/wp-content/uploads/2025/10/FADE_CLUBNIGHT_4-5_1.png
ORGANIZER;CN="FADE CLUB":MAILTO:info@fade-club.de
END:VEVENT
END:VCALENDAR