BEGIN:VCALENDAR
VERSION:2.0
PRODID:-//Fade Club - ECPv6.15.20//NONSGML v1.0//EN
CALSCALE:GREGORIAN
METHOD:PUBLISH
X-ORIGINAL-URL:https://www.fade-club.de
X-WR-CALDESC:Veranstaltungen für Fade Club
REFRESH-INTERVAL;VALUE=DURATION:PT1H
X-Robots-Tag:noindex
X-PUBLISHED-TTL:PT1H
BEGIN:VTIMEZONE
TZID:Europe/Berlin
BEGIN:DAYLIGHT
TZOFFSETFROM:+0100
TZOFFSETTO:+0200
TZNAME:CEST
DTSTART:20250330T010000
END:DAYLIGHT
BEGIN:STANDARD
TZOFFSETFROM:+0200
TZOFFSETTO:+0100
TZNAME:CET
DTSTART:20251026T010000
END:STANDARD
BEGIN:DAYLIGHT
TZOFFSETFROM:+0100
TZOFFSETTO:+0200
TZNAME:CEST
DTSTART:20260329T010000
END:DAYLIGHT
BEGIN:STANDARD
TZOFFSETFROM:+0200
TZOFFSETTO:+0100
TZNAME:CET
DTSTART:20261025T010000
END:STANDARD
BEGIN:DAYLIGHT
TZOFFSETFROM:+0100
TZOFFSETTO:+0200
TZNAME:CEST
DTSTART:20270328T010000
END:DAYLIGHT
BEGIN:STANDARD
TZOFFSETFROM:+0200
TZOFFSETTO:+0100
TZNAME:CET
DTSTART:20271031T010000
END:STANDARD
END:VTIMEZONE
BEGIN:VEVENT
DTSTART;TZID=Europe/Berlin:20260430T235900
DTEND;TZID=Europe/Berlin:20260501T050000
DTSTAMP:20260424T225548
CREATED:20260310T110801Z
LAST-MODIFIED:20260310T110801Z
UID:2923-1777593540-1777611600@www.fade-club.de
SUMMARY:
DESCRIPTION:Your indie pop party with German lyrics ❤️ \nWild vibes for wild hearts. ❤️‍🔥 \nWilde Herzen brings Kraftklub together with Zartmann\, grabs a drink with Provinz\, Kasi\, and Nina Chuba\, and sings your new favorite tracks from the “Gemeinsam” playlist arm in arm with Edwin Rosen and Paula Hartmann – right next to your best friend. 👯‍♀️🔥 \nSounds like:Ikkimel • Kraftklub • Provinz • Paula Hartmann • Ritter Lean • Bibiza • Zartmann • Kasi • JBS • Vicky • Wir sind Helden • Ivo Martin • Young Pepp • Dani Lia • OK.Danke.Tschüss • Rowli • Ennio • Berq • Jeremias • Roy Bianco & Die Abbrunzati Boys • Jonny Mahoro • Carla Ahad • Nina Chuba \nThu\, April 30\, 2026 // 11:59 PM // FADE // Münster // Presented by King Kong Kicks 🎉 \nTICKETS
URL:https://www.fade-club.de/event/2923/
ATTACH;FMTTYPE=image/jpeg:https://www.fade-club.de/wp-content/uploads/2026/03/WhatsApp-Image-2026-03-09-at-14.41.21.jpeg
END:VEVENT
BEGIN:VEVENT
DTSTART;TZID=Europe/Berlin:20260501T220000
DTEND;TZID=Europe/Berlin:20260502T050000
DTSTAMP:20260424T225548
CREATED:20260407T144928Z
LAST-MODIFIED:20260407T144928Z
UID:2944-1777672800-1777698000@www.fade-club.de
SUMMARY:Tanzdemo Afterparty
DESCRIPTION:Kollektive Nacht is the official afterparty of the dance demo on May 1st. Right after the closing rally at Hawerkamp\, the night continues seamlessly with us. \nKontroversium is taking over Favela\, while 538 Kollektiv will be hosting Fade.\nTwo collectives\, one night. \nThe proceeds from the afterparty will help fund the TanzDemo and support the initiatives speaking at the demo. \nEarly bird tickets are available now.\nYou’ll find the link in our bio. Make sure to grab a presale ticket — it helps us massively and secures you one of the limited spots for the afterparty. 🩷💙 We can’t wait to see you! \nLine-up Favela:\nMarcel Kreuzheck b2b Ferdinand Hmann\nLeo Schuer b2b Hen Taxi\nShafagh b2b 2Spicy\nKGX89\nChris Meyerink b2b Beron \nLine-up FADE:\nLuzinka\nPablito\nPechschwarz\nRadikarla \nTICKETS
URL:https://www.fade-club.de/event/tanzdemo-afterparty/
ATTACH;FMTTYPE=image/webp:https://www.fade-club.de/wp-content/uploads/2026/04/SEFRelTSJhRN-thumbnail.webp
END:VEVENT
BEGIN:VEVENT
DTSTART;TZID=Europe/Berlin:20260509T235900
DTEND;TZID=Europe/Berlin:20260510T050000
DTSTAMP:20260424T225548
CREATED:20260407T144259Z
LAST-MODIFIED:20260407T144259Z
UID:2940-1778371140-1778389200@www.fade-club.de
SUMMARY:King Kong Kicks
DESCRIPTION:The Indie Pop Party! \nWild\, wilder\, King Kong Kicks! This shit just hits different! 🔥 \nSounds like: Kraftklub • Ikkimel • Leoniden • Giant Rooks • Provinz • Fcukers • Zartmann • Bloc Party • Royel Otis • Two Door Cinema Club • Tame Impala • Nina Chuba • Edwin Rosen • Charli XCX • Wet Leg • Ski Aggu • The Beaches • Makko \nKing Kong kicks brings you a night that feels like a wild embrace\, best friends with that feeling of arriving and completely losing yourself\, dancing bodies wrapped in indie pop that flows straight to the heart in one loving mix and floods it completely. 🥳🎉 \nIf you want to make sure you’re in\, grab your ticket now! 🎫 \nSat. 09.05.2026 // 11:59 PM // FADE // Münster \nTICKETS
URL:https://www.fade-club.de/event/king-kong-kicks-17/
ATTACH;FMTTYPE=image/png:https://www.fade-club.de/wp-content/uploads/2026/04/Screenshot-2026-04-07-164153.png
END:VEVENT
BEGIN:VEVENT
DTSTART;TZID=Europe/Berlin:20260516T000000
DTEND;TZID=Europe/Berlin:20260516T050000
DTSTAMP:20260424T225548
CREATED:20260415T103027Z
LAST-MODIFIED:20260415T103027Z
UID:2950-1778889600-1778907600@www.fade-club.de
SUMMARY:Chains - Serdal von Tamer
DESCRIPTION:Eine Kette ist nur so stark wie ihre Glieder.“⛓️ \nEine Nacht voller Druck\, Rhythmus und dunkler Energie.\nFünf Artists. Eine Verbindung. Ein Floor. \nLine-up \n🩸Dimitri Cooman\nHead von Cherry Moon Records. Internationaler Techno-Sound mit kompromissloser Energie. \n🩸Hanzzo\nProducer bei Dolma Records \, DJ aus Münster und langjähriger Studio-Partner von P.T.B.S. Treibende Rhythmen und massiver Druck. \n🩸Jim Solis\nBelgischer Groove-Techno. Hypnotisch\, rollend und gebaut für lange Nächte. \n🩸Benn-X\nHead von MTZ Records. Dunkler Hard Techno ohne Pause. \n🩸P.T.B.S.\nHead von CHAINS. Treibende Kraft hinter dem Projekt – roh\, atmosphärisch und intensiv. \nTechno / Hard Techno\nFive artists. One chain. One night. \nTICKETS
URL:https://www.fade-club.de/event/chains-serdal-von-tamer/
ATTACH;FMTTYPE=image/jpeg:https://www.fade-club.de/wp-content/uploads/2026/04/WhatsApp-Image-2026-04-15-at-12.23.12.jpeg
END:VEVENT
BEGIN:VEVENT
DTSTART;TZID=Europe/Berlin:20260523T230000
DTEND;TZID=Europe/Berlin:20260524T050000
DTSTAMP:20260424T225548
CREATED:20260422T152623Z
LAST-MODIFIED:20260422T152623Z
UID:2966-1779577200-1779598800@www.fade-club.de
SUMMARY:Heliocentric
DESCRIPTION:On 23.05.2026\, @rituelle_ruhestoerung and @hard.art (OS) invite you to a long night at @fadeclub.ms in Münster which brings together a wide spectrum of Intense Electronic music and Art. \nExpect a sound that blends multifaceted Techno (from hypnotic to hard) with Hard Trance and Bounce: \nEnergy\, Groove\, and plenty of Bass. \nAn art exhibition curated by @hard.art will complement the night\, transforming and infusing the space with atmosphere from early on. \nThis event stands for a respectful and discrimination-free club culture. Sexism\, racism\, queerphobia\, and any form of abusive or disrespectful behaviour have absolutely no place here‼️ \nMore Information coming soon! \nTICKETS
URL:https://www.fade-club.de/event/heliocentric/
ATTACH;FMTTYPE=image/png:https://www.fade-club.de/wp-content/uploads/2026/04/Helicentric-III-Banner.png
END:VEVENT
BEGIN:VEVENT
DTSTART;TZID=Europe/Berlin:20260531T000000
DTEND;TZID=Europe/Berlin:20260531T050000
DTSTAMP:20260424T225548
CREATED:20260423T124013Z
LAST-MODIFIED:20260423T124013Z
UID:2974-1780185600-1780203600@www.fade-club.de
SUMMARY:BRATty
DESCRIPTION:münster – #brattyisalifestyle\nbratty heißt eintauchen in ein feeling\, das mehr ist als das album “brat“ – es ist ein statement! hier läuft der sound\, der sonst nicht im club existiert: queer\, rough\, euphorisch.\ny2k fashion auf dem dancefloor\, bauchfreie tops\, glitzer\, low-rise jeans und sonnenbrillen im club. die handys fangen verschwommene erinnerungen ein\, während der DJ jeden bratty-coded banger feuert: charli xcx\, kesha\, kim petras\, billie eilish\, ayesha erotica\, ikkimel\, lorde\, pinkpantheress\, cobrah\, adéla\, lady gaga & mehr.\nbratty ist keine season – es ist ein lifestyle\, ein safe space\, ein ausrasten jenseits des mainstreams.\nsicher dir jetzt dein ticket\nsa. 30.05.2026 // 23.59 uhr // fade // münsterminimum alter: 18+\n\nTICKETS
URL:https://www.fade-club.de/event/bratty-2/
ATTACH;FMTTYPE=image/png:https://www.fade-club.de/wp-content/uploads/2026/04/2026-05-30-bratty-muenster-banner-scaled.png
END:VEVENT
END:VCALENDAR