BEGIN:VCALENDAR
VERSION:2.0
PRODID:-//Fade Club - ECPv6.15.20//NONSGML v1.0//EN
CALSCALE:GREGORIAN
METHOD:PUBLISH
X-WR-CALNAME:Fade Club
X-ORIGINAL-URL:https://www.fade-club.de
X-WR-CALDESC:Veranstaltungen für Fade Club
REFRESH-INTERVAL;VALUE=DURATION:PT1H
X-Robots-Tag:noindex
X-PUBLISHED-TTL:PT1H
BEGIN:VTIMEZONE
TZID:Europe/Berlin
BEGIN:DAYLIGHT
TZOFFSETFROM:+0100
TZOFFSETTO:+0200
TZNAME:CEST
DTSTART:20250330T010000
END:DAYLIGHT
BEGIN:STANDARD
TZOFFSETFROM:+0200
TZOFFSETTO:+0100
TZNAME:CET
DTSTART:20251026T010000
END:STANDARD
BEGIN:DAYLIGHT
TZOFFSETFROM:+0100
TZOFFSETTO:+0200
TZNAME:CEST
DTSTART:20260329T010000
END:DAYLIGHT
BEGIN:STANDARD
TZOFFSETFROM:+0200
TZOFFSETTO:+0100
TZNAME:CET
DTSTART:20261025T010000
END:STANDARD
BEGIN:DAYLIGHT
TZOFFSETFROM:+0100
TZOFFSETTO:+0200
TZNAME:CEST
DTSTART:20270328T010000
END:DAYLIGHT
BEGIN:STANDARD
TZOFFSETFROM:+0200
TZOFFSETTO:+0100
TZNAME:CET
DTSTART:20271031T010000
END:STANDARD
END:VTIMEZONE
BEGIN:VEVENT
DTSTART;TZID=Europe/Berlin:20260131T235900
DTEND;TZID=Europe/Berlin:20260201T050000
DTSTAMP:20260425T004303
CREATED:20260105T133859Z
LAST-MODIFIED:20260105T133859Z
UID:2837-1769903940-1769922000@www.fade-club.de
SUMMARY:538 x Laut Klub pres. "Trance Rapid"
DESCRIPTION:Yoooooo Münster what’s up!! 💃🕺 538’s TRANCERAPID is back @fadeclub.ms !!!\n.\nAfter the last two successful editions\, we’re returning in 2026 and teaming up with our friends from Braunschweig\, @lautklub 💜\n.\n538 x TRANCEFORMATION\npres. TRANCE RAPID\n31/01/26\n23:59\n@fadeclub.ms\nTICKETLINK IN BIO\n.\nThis edition will be something truly special: our first own event in the new FADE\, a line-up made up of familiar faces and friends\, and our first event of 2026 in our hometown Münster.\n.\nWe’ll see you on the dancefloor with 538% energy 🫶\n.\n🎨 @pohlmaaan\n.\n.\nTECHNO IST KUNST 💜\n.\n.\n#techno #trance #münster #osnabrücker #bounce \n  \nTICKETS
URL:https://www.fade-club.de/event/538-x-laut-klub-pres-trance-rapid/
ATTACH;FMTTYPE=image/png:https://www.fade-club.de/wp-content/uploads/2026/01/instagram_1080x1350.png
END:VEVENT
BEGIN:VEVENT
DTSTART;TZID=Europe/Berlin:20260207T235900
DTEND;TZID=Europe/Berlin:20260207T235900
DTSTAMP:20260425T004303
CREATED:20260122T121542Z
LAST-MODIFIED:20260122T121542Z
UID:2862-1770508740-1770508740@www.fade-club.de
SUMMARY:MILLIAMPERE w/ DJ DRECKISCH\, CRITICAL ERROR 404 and more
DESCRIPTION:Münster Round 3. 🥳 \nWe are so excited to come back to Münster with this Huge lineup. ✨️💥 \nAs usual we will take you on beat thriving night and bring you the typical Milliampere energy. Stay tuned for this night. 🫶🏼 \nLine up: \n@dj_dreckisch\n@criticalerror404_\n@radikarla.dj\n@yedm._\n@flynn.on \nWhere?: Am Hawerkamp 31\, 48155 Münster\, Fade \nWhen?: 7th February 2026 \n  \nTICKETS
URL:https://www.fade-club.de/event/milliampere-w-dj-dreckisch-critical-error-404-and-more/
ATTACH;FMTTYPE=image/png:https://www.fade-club.de/wp-content/uploads/2026/01/16zu9.png
END:VEVENT
BEGIN:VEVENT
DTSTART;TZID=Europe/Berlin:20260221T235900
DTEND;TZID=Europe/Berlin:20260221T235900
DTSTAMP:20260425T004303
CREATED:20260106T123741Z
LAST-MODIFIED:20260106T123741Z
UID:2855-1771718340-1771718340@www.fade-club.de
SUMMARY:BRATty
DESCRIPTION:bratty means diving into a feeling that’s more than just the album “brat“ – it’s a statement! this is where sounds hit that you won’t hear in a regular club: queer\, rough\, euphoric. 💚 \ny2k fashion on the dancefloor\, crop tops\, glitter\, low-rise jeans and sunglasses in the club. phones capturing blurry memories while the DJ drops every bratty-coded banger: charli xcx\, kesha\, kim petras\, billie eilish\, ayesha erotica\, ikkimel\, lorde\, pinkpantheress\, cobrah\, adéla\, lady gaga & more. \nbratty isn’t a season – it’s a lifestyle\, a safe space\, a release beyond the mainstream. \nsa. february 21st 2026 // 23:59 // fade // muenster \nminimum age: 18+ \nget your ticket now 🎫 \nTICKETS
URL:https://www.fade-club.de/event/bratty/
ATTACH;FMTTYPE=image/png:https://www.fade-club.de/wp-content/uploads/2026/01/2026-02-21-bratty-muenster-feed-scaled.png
END:VEVENT
BEGIN:VEVENT
DTSTART;TZID=Europe/Berlin:20260227T230000
DTEND;TZID=Europe/Berlin:20260228T050000
DTSTAMP:20260425T004303
CREATED:20260130T143350Z
LAST-MODIFIED:20260130T143737Z
UID:2867-1772233200-1772254800@www.fade-club.de
SUMMARY:Sounds of Nazar
DESCRIPTION:TICKETS OUT NOW \nRound 2 at @fadeclub.ms 🧿 \nLINE UP: \nVALI THUN \nRAMYO \nLOUMAR \n#nightlife #muenster #fy #club #house \nTICKETS
URL:https://www.fade-club.de/event/sounds-of-nazar/
ATTACH;FMTTYPE=image/png:https://www.fade-club.de/wp-content/uploads/2026/01/27.02.2025-2-scaled.png
END:VEVENT
END:VCALENDAR