BEGIN:VCALENDAR
VERSION:2.0
PRODID:-//Fade Club - ECPv6.15.20//NONSGML v1.0//EN
CALSCALE:GREGORIAN
METHOD:PUBLISH
X-ORIGINAL-URL:https://www.fade-club.de
X-WR-CALDESC:Veranstaltungen für Fade Club
REFRESH-INTERVAL;VALUE=DURATION:PT1H
X-Robots-Tag:noindex
X-PUBLISHED-TTL:PT1H
BEGIN:VTIMEZONE
TZID:Europe/Berlin
BEGIN:DAYLIGHT
TZOFFSETFROM:+0100
TZOFFSETTO:+0200
TZNAME:CEST
DTSTART:20240331T010000
END:DAYLIGHT
BEGIN:STANDARD
TZOFFSETFROM:+0200
TZOFFSETTO:+0100
TZNAME:CET
DTSTART:20241027T010000
END:STANDARD
BEGIN:DAYLIGHT
TZOFFSETFROM:+0100
TZOFFSETTO:+0200
TZNAME:CEST
DTSTART:20250330T010000
END:DAYLIGHT
BEGIN:STANDARD
TZOFFSETFROM:+0200
TZOFFSETTO:+0100
TZNAME:CET
DTSTART:20251026T010000
END:STANDARD
BEGIN:DAYLIGHT
TZOFFSETFROM:+0100
TZOFFSETTO:+0200
TZNAME:CEST
DTSTART:20260329T010000
END:DAYLIGHT
BEGIN:STANDARD
TZOFFSETFROM:+0200
TZOFFSETTO:+0100
TZNAME:CET
DTSTART:20261025T010000
END:STANDARD
END:VTIMEZONE
BEGIN:VEVENT
DTSTART;VALUE=DATE:20250531
DTEND;VALUE=DATE:20250602
DTSTAMP:20260425T122533
CREATED:20240612T152216Z
LAST-MODIFIED:20250312T095938Z
UID:1707-1748649600-1748822399@www.fade-club.de
SUMMARY:Docklands Festival 2025
DESCRIPTION:Docklands Festival 2024 was a blast! With over 90 artists and 15.000 music lovers\, we enjoyed a day and night filled with joy and bliss. We’re already gearing up for Docklands Festival 2025 and can’t wait to share more amazing moments with you. Stay tuned to our website and social media for all the latest updates! \n\n\n\n\nDocklands Festival 2025 | 31.05 \nDoors: 11:30h \nStart: 12:00h \nPRE-SALE \nBest Frieds Ticket | 36\,00€ | Sold Out \nSuper Early Bird | 39\,00€ | Sold Out \nEarly Bird Tickets | available \nTICKETS \n 
URL:https://www.fade-club.de/event/docklands-festival-2025/
LOCATION:Conny Kramer\, Am Hawerkamp 31\, Münster\, 48155\, Deutschland
ATTACH;FMTTYPE=image/png:https://www.fade-club.de/wp-content/uploads/2024/06/060624_DL25_Ticketbanner_Insta-1.png
END:VEVENT
BEGIN:VEVENT
DTSTART;TZID=Europe/Berlin:20250606T230000
DTEND;TZID=Europe/Berlin:20250607T050000
DTSTAMP:20260425T122533
CREATED:20250515T112750Z
LAST-MODIFIED:20250515T112753Z
UID:2390-1749250800-1749272400@www.fade-club.de
SUMMARY:Wir Kinder vom Hawerkamp
DESCRIPTION:WKvH 06.06.25Start: 23hEntry: 10€ Box Office OnlyFusion Club (Vinyl Love)Conny Kramer (Hosted by 538) \nLine-up: \nDennis SiemionDIN A8RISTORenzoPablitoRed Mojo b2b M.A.S.C.Radikarla
URL:https://www.fade-club.de/event/wir-kinder-vom-hawerkamp-2/
ATTACH;FMTTYPE=image/jpeg:https://www.fade-club.de/wp-content/uploads/2025/05/fu_insta-feed_wkvh-1.jpg
END:VEVENT
BEGIN:VEVENT
DTSTART;TZID=Europe/Berlin:20250607T235900
DTEND;TZID=Europe/Berlin:20250608T050000
DTSTAMP:20260425T122533
CREATED:20250506T123050Z
LAST-MODIFIED:20250506T123059Z
UID:2355-1749340740-1749358800@www.fade-club.de
SUMMARY:Peinlo Pop Party
DESCRIPTION:Peinlo Pop is giving very cutesy\, very mindful!💅 \nOk\, real talk: Du weißt\, welche Songs wir meinen – die\, bei denen du alleine im Zimmer abgehst\, aber wenn jemand fragt\, sagst du „nein\, niemals\, not me“ 😅. Die Songs\, die du heimlich im Auto 🚗 oder mit den Friends beim fertig machen auf Dauerschleife hörst… Guess what? \nPeinlo Pop is the party where we OWN it! 💅🏻💃🏻 \n🪩 Awkward? Maybe. Main character Vibes? Garantiert! 😜Wir mixen die besten Throwback Bops wie \,\,Since You Been Gone’’ oder \,\,Unwritten’’ mit den aktuellsten Hype-Tracks à la \,\,HOT TO GO’’ und \,\,Espresso’’ – einmal quer durch deine FYP! Von Britney\, und Avril Lavigne über Ke$ha\, Taylor und Katy Perry bis zu den Queens von heute wie Chappell Roan\, Sabrina Carpenter und Olivia Rodrigo – ALLES dabei! 🤩 \nBring the whole squad 👯‍♀️\, schießt Pics auf der Einweg-Kamera 📸 – das hier ist der Moment\, den du NICHT verpassen willst! It’s giving legendary\, it’s giving main character\, it’s giving huge slay! 😎💅😋 \nWhat to expect?: \nAvril Lavigne • Katy Perry • Taylor Swift • Fergie • Olivia Rodrigo • Gwen Stefani • One Direction • Sabrina Carpenter • Ke$ha • Justin Bieber • Kelly Clarkson • Shakira • Miley Cyrus • Chappell Roan • Dua Lipa • Natasha Bedingfield • Madonna • MARINA • Charli XCX • Rihanna • Kylie Minogue • Britney Spears • Sugarbabes • Justin Timberlake • Nicki Minaj • Bruno Mars • Harry Styles • Usher • Pitbull • The Pussycat Dolls • Cro • Vanessa Carlton \nLet’s get those tickets 🎫 and make history on the dance floor 💥🔥. \nSat. 07.06.25 // 23:59 // Conny Kramer // Münster \nTickets!
URL:https://www.fade-club.de/event/peinlo-pop-party-4/
ATTACH;FMTTYPE=image/jpeg:https://www.fade-club.de/wp-content/uploads/2025/05/2025-06-07-PPP-Muenster_Feed-1-1-1-1-1-1-1-1-scaled.jpg
END:VEVENT
BEGIN:VEVENT
DTSTART;TZID=Europe/Berlin:20250608T230000
DTEND;TZID=Europe/Berlin:20250609T050000
DTSTAMP:20260425T122533
CREATED:20250430T094604Z
LAST-MODIFIED:20250430T094607Z
UID:2340-1749423600-1749445200@www.fade-club.de
SUMMARY:Bassmania
DESCRIPTION:The 8th of June marks the return of the next Bassmania Festival after a 3-month break. \nEntry from 10 PM @ FavelaEntry from 11 PM @ all other clubs \nBox office tickets available 🎫 \nTickets! \n 
URL:https://www.fade-club.de/event/bassmania-12/
ATTACH;FMTTYPE=image/jpeg:https://www.fade-club.de/wp-content/uploads/2025/04/WhatsApp-Image-2025-04-30-at-09.59.21.jpeg
END:VEVENT
BEGIN:VEVENT
DTSTART;TZID=Europe/Berlin:20250614T235900
DTEND;TZID=Europe/Berlin:20250615T050000
DTSTAMP:20260425T122533
CREATED:20250507T103433Z
LAST-MODIFIED:20250507T103436Z
UID:2364-1749945540-1749963600@www.fade-club.de
SUMMARY:INDIE LIEBE
DESCRIPTION:Am SA 14.06. sind wir wild im Herzen! \nBei Münsters beliebtester Indie Pop Party heißt es mitsingen\, als ob’s keiner hört und tanzen\, als ob keiner guckt. Und das alles zu den besten Indie Songs der heutigen Zeit! \nKraftklub | Von Wegen Lisbeth | Edwin Rosen | Dilla | Provinz | Paula Hartmann | Girl in Red | Raum 27 | Mayberg | Berq | Madsen | Bilderbuch | Ennio … \n#indiepop #wildeherzen #realitätsfluchtmitstil #muenster #wirtanzendasschon \nTickets!
URL:https://www.fade-club.de/event/indie-liebe-9/
ATTACH;FMTTYPE=image/jpeg:https://www.fade-club.de/wp-content/uploads/2025/05/Indie-Liebe.jpeg
END:VEVENT
BEGIN:VEVENT
DTSTART;TZID=Europe/Berlin:20250621T235900
DTEND;TZID=Europe/Berlin:20250622T050000
DTSTAMP:20260425T122533
CREATED:20250604T104809Z
LAST-MODIFIED:20250612T100939Z
UID:2402-1750550340-1750568400@www.fade-club.de
SUMMARY:Qlash - Queer Party
DESCRIPTION:QLASH – Münsters neue queere Techno-Party \nWir bringen eine neue queere Techno-Party an den Hawerkamp! \nAm Samstag\, den 21. Juni\, verwandeln wir das Conny Kramer in einen Ort für alle\, die frei tanzen wollen!. \nMusik: Techno\, Elektro\, House \nQueere und lokale DJs an den DecksFür Queers\, Allys & alle\, die feiern wollen ohne Grenzen \nWir schaffen einen Safe Space\, in dem du sein darfst wer du bist – ob in Netz\, Drag\, Leder oder T-Shirt. \nKein Platz für Rassismus\, Sexismus\, Transphobie oder andere Diskriminierung. \nNur Techno\, Licht und Ihr! \nWo: Conny Kramer · Hawerkamp 31Doors: 23:59 UhrEintritt: 10€ VVK12€ Abendkasse \nTickets!
URL:https://www.fade-club.de/event/qlash-queer-party/
ATTACH;FMTTYPE=image/jpeg:https://www.fade-club.de/wp-content/uploads/2025/06/WhatsApp-Image-2025-06-04-at-12.41.18-1.jpeg
END:VEVENT
END:VCALENDAR