BEGIN:VCALENDAR
VERSION:2.0
PRODID:-//Fade Club - ECPv6.15.20//NONSGML v1.0//EN
CALSCALE:GREGORIAN
METHOD:PUBLISH
X-WR-CALNAME:Fade Club
X-ORIGINAL-URL:https://www.fade-club.de
X-WR-CALDESC:Veranstaltungen für Fade Club
REFRESH-INTERVAL;VALUE=DURATION:PT1H
X-Robots-Tag:noindex
X-PUBLISHED-TTL:PT1H
BEGIN:VTIMEZONE
TZID:Europe/Berlin
BEGIN:DAYLIGHT
TZOFFSETFROM:+0100
TZOFFSETTO:+0200
TZNAME:CEST
DTSTART:20240331T010000
END:DAYLIGHT
BEGIN:STANDARD
TZOFFSETFROM:+0200
TZOFFSETTO:+0100
TZNAME:CET
DTSTART:20241027T010000
END:STANDARD
BEGIN:DAYLIGHT
TZOFFSETFROM:+0100
TZOFFSETTO:+0200
TZNAME:CEST
DTSTART:20250330T010000
END:DAYLIGHT
BEGIN:STANDARD
TZOFFSETFROM:+0200
TZOFFSETTO:+0100
TZNAME:CET
DTSTART:20251026T010000
END:STANDARD
BEGIN:DAYLIGHT
TZOFFSETFROM:+0100
TZOFFSETTO:+0200
TZNAME:CEST
DTSTART:20260329T010000
END:DAYLIGHT
BEGIN:STANDARD
TZOFFSETFROM:+0200
TZOFFSETTO:+0100
TZNAME:CET
DTSTART:20261025T010000
END:STANDARD
END:VTIMEZONE
BEGIN:VEVENT
DTSTART;TZID=Europe/Berlin:20250405T230000
DTEND;TZID=Europe/Berlin:20250406T050000
DTSTAMP:20260425T150406
CREATED:20250312T093329Z
LAST-MODIFIED:20250312T093332Z
UID:2248-1743894000-1743915600@www.fade-club.de
SUMMARY:Desire x Hotmeal
DESCRIPTION:Desire and Hotmeal Records join forces in Münster to deliver a one-of-a-kind experience through different genres and styles. Prepare yourself for the gathering of two crews known for their good vibes. \nLineup:Bad BoomboxJanis ZielinskiSlin b2b TARKNOOllie LishmanMijaROBIN TASI b2b KRACKKDaisy WewehSchumacher & ScheppatRubiSHRFF B2B Tim ReinekeValeby \nDoors:23:00h \nFloors:Main\, Box\, Conny\, Basement \n________________________________– LGBTQIA+ friendly– 18+– We highly point out our zero tolerance policy towards hate speech\, discrimination\, racism\, sexism and all kinds of discrimination at all. All violation leads to be banned. We are actively committing in every case! \nTickets!
URL:https://www.fade-club.de/event/desire-x-hotmeal/
ATTACH;FMTTYPE=image/png:https://www.fade-club.de/wp-content/uploads/2025/03/05042025_DESIRE_1zu1_Bild-1-1.png
END:VEVENT
BEGIN:VEVENT
DTSTART;TZID=Europe/Berlin:20250412T220000
DTEND;TZID=Europe/Berlin:20250413T050000
DTSTAMP:20260425T150406
CREATED:20250312T094243Z
LAST-MODIFIED:20250312T094246Z
UID:2258-1744495200-1744520400@www.fade-club.de
SUMMARY:30 years Dockland w/ ÂME\, DJ T-1000\, Julya Karma\, HiTMiLØW
DESCRIPTION:We really can’t believe that we’re turning 30 this year. Still feels like yesterday when we opened up our first Club in 1995! We still have so much passion and devotion for what we’re doing and we feel blessed that you still give us the chance to entertain you! \nThe first big celebration will be our proper anniversary party on Saturday\, 12.04.25. With 4 floors across Fusion and Conny Kramer\, we’ll be joined by old and new friends for a big rave with an exceptional line-up. \nOn the Fusion Mainfloor\, expect intense house sounds from Innervisions label boss and DJ maestro ÂME\, as well as power selector JULYA KARMA. In the basement\, the schick.standort crew and Detroit legend Alan Oldham a.k.a. DJ T-1000 will deliver uncompromising techno\, while HiTMiLØW will flip Conny upside down with hard trance. \nOur local acts lineup is also worthy of this anniversary: ALYF\, Delm\, Dr.G\, Efe Jackson\, Katana\, Khetama\, Makahaun\, Marco Mesem\, Pik\, Radikarla\, Redfocks\, Red Mojo and Stacy. \nLimited Early Birds are just 13€ and subsequent Phase I tickets are 15€. Our Early Entry tickets are also available for 13€\, rewarding those who arrive early with a discount. It’s shaping up to be an anniversary party that feels more like a mini-festival. We can’t wait to celebrate the last 30 years – and everything still to come – with all of you. \nTickets here!
URL:https://www.fade-club.de/event/30-years-dockland-w-ame-dj-t-1000-julya-karma-hitmilow/
ATTACH;FMTTYPE=image/png:https://www.fade-club.de/wp-content/uploads/2025/03/201224_30JahreDockland_1-1-1.png
END:VEVENT
BEGIN:VEVENT
DTSTART;TZID=Europe/Berlin:20250419T235900
DTEND;TZID=Europe/Berlin:20250420T050000
DTSTAMP:20260425T150406
CREATED:20250326T090523Z
LAST-MODIFIED:20250326T090526Z
UID:2293-1745107140-1745125200@www.fade-club.de
SUMMARY:Indie Liebe
DESCRIPTION:Deep•Dive•in•die•Liebe! On SA 19.04. it’s time again!   🎶🕺🧡 \nMünster’s most popular indie party is all about singing along like nobody’s listening and dancing like nobody’s watching. And all to the best indie songs of the moment! 💫 \nThe party starts at midnight at Conny Kramer\, Münster’s feel-good location! Here you can spend unforgettable nights and turn night into day 💫 because at the end everything ends\, but never the music! \nDon’t miss out on this evening and get your tickets now! 🎟️🔥 For all presale tickets that arrive between 0-1 am\, there is a shot on the house 👌 \nAlso in the playlist: \nKraftklub | Von Wegen Lisbeth | Arctic Monkeys | Edwin Rosen | Dilla | Provinz | Paula Hartmann | Girl in Red | Raum 27 | Two Door Cinema Club | Mayberg | Berq | Madsen | Bilderbuch | Ennio | Paula Carolina | The Killers | Blond | Tränen | Danger Dan | Giant Rooks | Betterov | Casper | Kasi | Kaffkiez | BHZ | The Kooks |Bruckner | Leoniden | 01099 | Florence And The Machine | Harry Styles | Ski Aggu | Betterov | Franz Ferdinand | Oasis | Kraftklub | Kytes | The Strokes | Faber | Lostboi Lino | Arcade Fire | Drangsal | Purple Disco Machine | Editors | Millenium Kid | Wir sind Helden | Eli Preiss | Nina Chuba | Kummer | ok.danke.tschüss a.m… \nTickets here!
URL:https://www.fade-club.de/event/indie-liebe-8/
ATTACH;FMTTYPE=image/jpeg:https://www.fade-club.de/wp-content/uploads/2025/03/WhatsApp-Image-2025-03-25-at-13.43.49.jpeg
END:VEVENT
BEGIN:VEVENT
DTSTART;TZID=Europe/Berlin:20250426T230000
DTEND;TZID=Europe/Berlin:20250427T050000
DTSTAMP:20260425T150406
CREATED:20250422T102127Z
LAST-MODIFIED:20250422T102130Z
UID:2329-1745708400-1745730000@www.fade-club.de
SUMMARY:Puro Barrio
DESCRIPTION:MÜNSTER FAMILY 🩶 \nWe’re back to tear it up ONCE AGAIN\, and now we need you more than ever for a  LEGEN – WAIT FOR IT – DARY !!! \nWhat are you waiting for? Get your tickets now and bring your friend\, partner\, ex — whoever! \nSee you there! \n🎟️ Buy your tickets now – Limited Space! \n🚪DOORS OPEN: 23:00 \n🎶 Line Up:🔥 Nico Guecha🔥 Enke🔥 Umop🔥 Sohi \nZero Tolerance Policy \nPuro Barrio has always been and will continue to be a safe space for everyone who wants to have fun dancing and enjoying our culture. We welcome individuals of all backgrounds\, identities\, and experiences. Discrimination\, harassment\, or any form of disrespect will not be tolerated and will result in immediate removal from the event. \nAll sales are final policy: Once customers make a purchase\, they will not be able to return that item for a replacement or refund. \nTickets!
URL:https://www.fade-club.de/event/puro-barrio/
ATTACH;FMTTYPE=image/jpeg:https://www.fade-club.de/wp-content/uploads/2025/04/Puro-Barrio.jpg
END:VEVENT
BEGIN:VEVENT
DTSTART;TZID=Europe/Berlin:20250430T235900
DTEND;TZID=Europe/Berlin:20250501T050000
DTSTAMP:20260425T150406
CREATED:20250321T120541Z
LAST-MODIFIED:20250321T120914Z
UID:2283-1746057540-1746075600@www.fade-club.de
SUMMARY:Pop Girly Night
DESCRIPTION:Calling all Pop Queens! 👑 This is going to be iconic:one partynight full of the BIGGEST ANTHEMS\, your FAVE ICONS and pure drama\, glitter & a vibe thats 2 die 4. 💅 \nNo matter if it’s Sabrina\, Chappell\, Gracie\, Tate\, Dua or Olivia – we’re in our✨Pop Girl Era✨\, try some freaky positions\, are messy and scream the bridge of \,\,That’s so True“\, and feel like home at the Pink Pony Club ! 🦄 \nThis night sounds like… \nSabrina Carpenter\, Chappell Roan\, Gracie Abrams\, Olivia Rodrigo\, Tate McRae\, Dua Lipa\, Lola Young\, Madison Beer\, Renèe Rapp\, Billie Eilish\, Lady Gaga\, Katy Perry\, MARINA\, Lorde\, Beyoncé\, Britney Spears\, SZA\, Tyla\,… \nCatch your tickets!🎫 (or they go Houdini 😉) \nTickets here!
URL:https://www.fade-club.de/event/pop-girly-night/
ATTACH;FMTTYPE=image/png:https://www.fade-club.de/wp-content/uploads/2025/03/2025-04-30-Pop-Girly-Night-4x4-1.png
END:VEVENT
END:VCALENDAR