BEGIN:VCALENDAR
VERSION:2.0
PRODID:-//Fade Club - ECPv6.15.20//NONSGML v1.0//EN
CALSCALE:GREGORIAN
METHOD:PUBLISH
X-ORIGINAL-URL:https://www.fade-club.de
X-WR-CALDESC:Veranstaltungen für Fade Club
REFRESH-INTERVAL;VALUE=DURATION:PT1H
X-Robots-Tag:noindex
X-PUBLISHED-TTL:PT1H
BEGIN:VTIMEZONE
TZID:Europe/Berlin
BEGIN:DAYLIGHT
TZOFFSETFROM:+0100
TZOFFSETTO:+0200
TZNAME:CEST
DTSTART:20240331T010000
END:DAYLIGHT
BEGIN:STANDARD
TZOFFSETFROM:+0200
TZOFFSETTO:+0100
TZNAME:CET
DTSTART:20241027T010000
END:STANDARD
BEGIN:DAYLIGHT
TZOFFSETFROM:+0100
TZOFFSETTO:+0200
TZNAME:CEST
DTSTART:20250330T010000
END:DAYLIGHT
BEGIN:STANDARD
TZOFFSETFROM:+0200
TZOFFSETTO:+0100
TZNAME:CET
DTSTART:20251026T010000
END:STANDARD
BEGIN:DAYLIGHT
TZOFFSETFROM:+0100
TZOFFSETTO:+0200
TZNAME:CEST
DTSTART:20260329T010000
END:DAYLIGHT
BEGIN:STANDARD
TZOFFSETFROM:+0200
TZOFFSETTO:+0100
TZNAME:CET
DTSTART:20261025T010000
END:STANDARD
END:VTIMEZONE
BEGIN:VEVENT
DTSTART;TZID=Europe/Berlin:20250301T235900
DTEND;TZID=Europe/Berlin:20250302T050000
DTSTAMP:20260425T163107
CREATED:20250212T105327Z
LAST-MODIFIED:20250212T105605Z
UID:2186-1740873540-1740891600@www.fade-club.de
SUMMARY:King Kong Kicks
DESCRIPTION:Wild\, wilder\, King Kong Kicks! This shit just hits different!  \nSounds like: Ennio\, Berq\, Fred Again\, Marlon Hoffstadt\, Dilla\, Giant Rooks\, Edwin Rosen\, Mando Diao\, Mayberg\, Kasi\, Florence and the machine\, Brutalismus 3000\, Paulwetz\, Royel Otis\, Paula Carolina\, Bibiza\, Southstar\, Ski Aggu\, Arctic Monkeys\, Blond…. \nKing Kong kickt in deinen Club und bringt dir eine Nacht wie eine wilde Umarmung\, best Friends mit dem Gefühl von Ankommen und Abgehen\, tanzende Körper gehüllt in Indie-Pop\, der sich wie ein Fluss im liebevollen Mix ins Herz spült\, es regelrecht überschwemmt. \nEnergetisch\, sinnlich\, frei\, denn das mit uns ist nicht mehr normal. \nWer safe drin sein will\, sichert sich ganz einfach ein Ticket! \n  \nZum Ticketverkauf! \n  \nSa. 01.03.25 // 23:59 Uhr // Conny Kramer // Münster \n————————————————————- \nWir sind bei Instagram & Spotify \nMinimum age: 18 \nBitte seht in eurem eigenen Interesse davon ab\, Tickets bei Drittanbieter zu kaufen.
URL:https://www.fade-club.de/event/king-kong-kicks-11/
ATTACH;FMTTYPE=image/jpeg:https://www.fade-club.de/wp-content/uploads/2025/02/2025-03-01-KKKicks-Muenster-Feed.jpg
END:VEVENT
BEGIN:VEVENT
DTSTART;TZID=Europe/Berlin:20250307T235900
DTEND;TZID=Europe/Berlin:20250308T050000
DTSTAMP:20260425T163107
CREATED:20250219T130645Z
LAST-MODIFIED:20250219T130733Z
UID:2193-1741391940-1741410000@www.fade-club.de
SUMMARY:Trance Rapid
DESCRIPTION:Yoyoyoooo 538 ‚Trancerapid‘ is back @connykramer_ms \n538 pres. TRANCERAPID \n  \nAfter our first edition with @galactic_harmony_records we’re truly hyped to announce a massive second one at our temple of good vibes Conny Kramer 🥰 Be prepared for high quality sound\, good vibes only and 538% energy on the dancefloor all night long! \n  \nSafe your ticket now before it’s too late 🙏 \nTickets here! \n  \nDance through the night with these talented artists… \n♡ @2hot2play \n♡ @l.zwo \n♡ @delm.music \n♡ @atjop.mp3 \n♡ @stacy_9_9 \n  \n🎨 @felixpohlmann \n🆔️ @2hot2play – Fucked Up \nTECHNO IST KUNST 💜 \n 
URL:https://www.fade-club.de/event/trance-rapid-2/
ATTACH;FMTTYPE=image/png:https://www.fade-club.de/wp-content/uploads/2025/02/1000111961-1.png
END:VEVENT
BEGIN:VEVENT
DTSTART;TZID=Europe/Berlin:20250308T230000
DTEND;TZID=Europe/Berlin:20250309T050000
DTSTAMP:20260425T163107
CREATED:20250227T075311Z
LAST-MODIFIED:20250227T075445Z
UID:2213-1741474800-1741496400@www.fade-club.de
SUMMARY:Blume auf Asphalt w/ Kalte Liebe LIVE
DESCRIPTION:KALTE LIEBE is back!Nach dem packenden Fusion-Debüt vor fast genau einem Jahr kehrt das Berliner Power-Duo am 08.03. mit ihrer „Blume auf Asphalt“-Eventreihe mit Vollgas ins Fusion zurück inklusive dem Conny Kramer als second Floor! Mit ihrem Mix aus dystopischen Vocals und Dark-Wave-inspiriertem Techno haben sie sich als einer der aktuell gefragtesten elektronischen Live-Acts in Deutschland und darüber hinaus etabliert. \nNatürlich warten in dieser Nacht noch weitere Highlights: Die Newcomer ATZENPUNK\, DJ Sportschuh\, DJ Traytex\, Hard Candy\, Raven und Tikoa sind ebenfalls am Start. Lokalen Support gibt es auf allen drei Floors von Adrenalina b2b Lemonpepper\, Dennis Siemion\, LEVAA\, M.A.S.C. und Schwesta P. \n  \nTickets here!
URL:https://www.fade-club.de/event/blume-auf-asphalt-w-kalte-liebe-live/
ATTACH;FMTTYPE=image/jpeg:https://www.fade-club.de/wp-content/uploads/2025/02/Artwork_Fusion_BBA_White_1080x1080px.jpg
END:VEVENT
BEGIN:VEVENT
DTSTART;TZID=Europe/Berlin:20250315T235900
DTEND;TZID=Europe/Berlin:20250316T050000
DTSTAMP:20260425T163107
CREATED:20250221T111304Z
LAST-MODIFIED:20250312T100611Z
UID:2200-1742083140-1742101200@www.fade-club.de
SUMMARY:Groove District
DESCRIPTION:Groove District-House Legends Edition- \n🎧Classic House & Rare Grooves \nWhether you’re an old-school raver or a newcomer\, you’ll find your beat here. \nGroove District opens its doors for a night of electrifying sounds that have conquered dance floors worldwide. \nWe celebrate the best of house music from the 90s and 2000s. Our DJs bring the hottest tracks and the rarest remixes to the decks – from iconic classics to hidden gems that will set any dancefloor on fire. \nTickets here!
URL:https://www.fade-club.de/event/groove-district/
ATTACH;FMTTYPE=image/jpeg:https://www.fade-club.de/wp-content/uploads/2025/02/1000103768.jpg
END:VEVENT
BEGIN:VEVENT
DTSTART;TZID=Europe/Berlin:20250321T230000
DTEND;TZID=Europe/Berlin:20250322T050000
DTSTAMP:20260425T163107
CREATED:20250227T080206Z
LAST-MODIFIED:20250312T100353Z
UID:2217-1742598000-1742619600@www.fade-club.de
SUMMARY:Bassmania
DESCRIPTION:On Friday\, March 21\, Bassmania goes straight into the next round. After the thunderstorm of February\, there will be no break! The second Bassmania starts directly in March! \nVisitors can look forward to a club festival in five clubs with a total of twelve floors. These include the Fusion Club\, Conny Kramer\, Favela\, Sputnikhalle and the Triptychon. \nThis time there will be new equipment\, cool DJs\, colourful lights and lots of darkness paired with strobo! The bouquet of flowers among the parties will once again guarantee an unforgettable night and this time it is particularly worthwhile to secure a ticket quickly\, as they are currently available for just 20€! \nTickets\, opening times and line-ups can be found as usual on the usual Bassmania channels. \nTickets here!
URL:https://www.fade-club.de/event/bassmania-11/
ATTACH;FMTTYPE=image/jpeg:https://www.fade-club.de/wp-content/uploads/2025/02/WhatsApp-Image-2025-02-25-at-12.59.43-PM-1.jpeg
END:VEVENT
BEGIN:VEVENT
DTSTART;TZID=Europe/Berlin:20250328T235900
DTEND;TZID=Europe/Berlin:20250329T050000
DTSTAMP:20260425T163107
CREATED:20250227T081003Z
LAST-MODIFIED:20250312T101032Z
UID:2222-1743206340-1743224400@www.fade-club.de
SUMMARY:Richtig Dick Techno
DESCRIPTION:RICHTIG DICK TECHNO! presents MATTHIAS OLCK & YESOLO @ CONNY KRAMER\, Münster \nRDT is back at Conny Kramer and has Matthias Olck\, one of the most interesting new acts of recent years\, as a guest to kick off the new year! \nPaired with powerful local support from YESOLO and the RDT crew\, we’re kicking off 2025 with a bang! \nThere is probably no other DJ in Germany who has been able to build up such a large fan base at such a young age \nMatthias Olck is not even of legal age and already has countless fans\, not least on Switch and all other platforms\, so it will be interesting to see where his journey takes him! Hard techno meets huge talent\, and he has already released his first productions\, including on Dyen’s label Reckless. \nIf you really want to experience an extraordinary booking\, Matthias definitely shouldn’t be missed! \n  \nTickets here! \n  \n 
URL:https://www.fade-club.de/event/richtig-dick-techno-3/
ATTACH;FMTTYPE=image/jpeg:https://www.fade-club.de/wp-content/uploads/2025/02/WhatsApp-Image-2025-02-23-at-2.55.36-PM.jpeg
END:VEVENT
END:VCALENDAR