BEGIN:VCALENDAR
VERSION:2.0
PRODID:-//Fade Club - ECPv6.15.20//NONSGML v1.0//EN
CALSCALE:GREGORIAN
METHOD:PUBLISH
X-WR-CALNAME:Fade Club
X-ORIGINAL-URL:https://www.fade-club.de
X-WR-CALDESC:Veranstaltungen für Fade Club
REFRESH-INTERVAL;VALUE=DURATION:PT1H
X-Robots-Tag:noindex
X-PUBLISHED-TTL:PT1H
BEGIN:VTIMEZONE
TZID:Europe/Berlin
BEGIN:DAYLIGHT
TZOFFSETFROM:+0100
TZOFFSETTO:+0200
TZNAME:CEST
DTSTART:20230326T010000
END:DAYLIGHT
BEGIN:STANDARD
TZOFFSETFROM:+0200
TZOFFSETTO:+0100
TZNAME:CET
DTSTART:20231029T010000
END:STANDARD
BEGIN:DAYLIGHT
TZOFFSETFROM:+0100
TZOFFSETTO:+0200
TZNAME:CEST
DTSTART:20240331T010000
END:DAYLIGHT
BEGIN:STANDARD
TZOFFSETFROM:+0200
TZOFFSETTO:+0100
TZNAME:CET
DTSTART:20241027T010000
END:STANDARD
BEGIN:DAYLIGHT
TZOFFSETFROM:+0100
TZOFFSETTO:+0200
TZNAME:CEST
DTSTART:20250330T010000
END:DAYLIGHT
BEGIN:STANDARD
TZOFFSETFROM:+0200
TZOFFSETTO:+0100
TZNAME:CET
DTSTART:20251026T010000
END:STANDARD
BEGIN:DAYLIGHT
TZOFFSETFROM:+0100
TZOFFSETTO:+0200
TZNAME:CEST
DTSTART:20260329T010000
END:DAYLIGHT
BEGIN:STANDARD
TZOFFSETFROM:+0200
TZOFFSETTO:+0100
TZNAME:CET
DTSTART:20261025T010000
END:STANDARD
END:VTIMEZONE
BEGIN:VEVENT
DTSTART;TZID=Europe/Berlin:20241231T230000
DTEND;TZID=Europe/Berlin:20250101T050000
DTSTAMP:20260425T192005
CREATED:20241204T080037Z
LAST-MODIFIED:20241204T080738Z
UID:2114-1735686000-1735707600@www.fade-club.de
SUMMARY:Die Abfahrt 24/25
DESCRIPTION:On New Year’s Eve\, December 31\, 2024\, the Fusion Club invites to celebrate one last time this year and dance into 2025 together! \nFor this special New Year’s Eve rave\, not only the entire Fusion Club will be used\, but the Conny Kramer Club will also be involved. The result is an event that covers 4 floors and offers a varied line-up for all partygoers. \nDie Abafahrt promises a successful start to the new year and invites everyone to experience this special evening together. \nLine-up: \n\nDennis Siemion\nRenzo\nHighscore (Live)\nOrient Exzess\nClone31\nMarino\nDer Wagner\nKheta b2b LHYST\nRam b2b LEVAA\nAnni\nPechschwarz\nGustav Organo\nCali Caracho\nRed Mojo\nEfe Jackson\nALYF\nDenter\n\n  \n  \nTickets here!
URL:https://www.fade-club.de/event/die-abfahrt-24-25/
ATTACH;FMTTYPE=image/png:https://www.fade-club.de/wp-content/uploads/2024/12/111124_DieAbfahrt_2025_1-1_neu.png
END:VEVENT
BEGIN:VEVENT
DTSTART;TZID=Europe/Berlin:20250111T235900
DTEND;TZID=Europe/Berlin:20250112T050000
DTSTAMP:20260425T192005
CREATED:20250107T094305Z
LAST-MODIFIED:20250107T095304Z
UID:2143-1736639940-1736658000@www.fade-club.de
SUMMARY:King Kong Kicks
DESCRIPTION:The indie pop party. Though more of an indie addicted open format. Bullshit: This shit hits different!\nWild\, wilder\, King Kong Kicks! This shit just hits different!\nSounds like: Ennio\, Berq\, Fred Again\, Marlon Hoffstadt\, Dilla\, Giant Rooks\, Edwin Rosen\, Mando Diao\, Mayberg\, Kasi\, Florence and the machine\, Brutalismus 3000\, Paulwetz\, Royel Otis\, Paula Carolina\, Bibiza\, Southstar\, Ski Aggu\, Arctic Monkeys\, Blond ….King Kong kickt in deinen Club und bringt dir eine Nacht wie eine wilde Umarmung\, best Friends mit dem Gefühl von Ankommen und Abgehen\, tanzende Körper gehüllt in Indie-Pop\, der sich wie ein Fluss im liebevollen Mix ins Herz spült\, es regelrecht überschwemmt. Energetisch\, sinnlich\, frei\, denn das mit uns ist nicht mehr normal. Wer safe drin sein will\, sichert sich ganz einfach ein Ticket!\n\n\nTickets here!\n————————————————————-Wir bei Instagram & SpotifyMinimum age: 18Bitte seht in eurem eigenen Interesse davon ab\, Tickets bei Drittanbieter zu kaufen.
URL:https://www.fade-club.de/event/king-kong-kicks-10/
ATTACH;FMTTYPE=image/png:https://www.fade-club.de/wp-content/uploads/2025/01/Picture4.png
END:VEVENT
BEGIN:VEVENT
DTSTART;TZID=Europe/Berlin:20250125T235900
DTEND;TZID=Europe/Berlin:20250126T050000
DTSTAMP:20260425T192005
CREATED:20250107T095109Z
LAST-MODIFIED:20250107T095445Z
UID:2148-1737849540-1737867600@www.fade-club.de
SUMMARY:Peinlo Pop Party
DESCRIPTION:POP PARTY w/ Awkward Darlings • Guilty Pleasures • TikTok Moves\nPeinlo Pop is giving v ery cutesy\, very mindful!\nOk\, real talk: Du weißt\, welche Songs wir meinen – die\, bei denen du alleine im Zimmer abgehst\, aber wenn jemand fragt\, sagst du „nein\, niemals\, not me“. die Songs\, die du heimlich im Auto oder mit den Friends beim fertig machen auf Dauerschleife hörst… Guess what?Peinlo Pop is the party where we OWN it!Awkward? Maybe. Main character Vibes? Garantiert!Wir mixen die besten throwback bops wie \,\,Since You Been Gone’’ oder \,\,Unwritten’’ mit den aktuellsten Hype-Tracks à la \,\,HOT TO GO’’ und \,\,Espresso’’ – einmal quer durch deine FYP! Von Britney\, und Avril Lavigne über Ke$ha\, Taylor und Katy Perry bis zu den Queens von heute wie Chappell Roan \, Sabrina Carpenter und Olivia Rodrigo – ALLES dabei!Bring the whole squad\, schießt Pics auf der Einmal-Kamera – das hier ist der Moment\, den du NICHT verpassen willst! It’s giving legendary \, it’s giving main character \, it’s giving huge slay!\n\nWhat to expect?:Avril Lavigne • Katy Perry • Taylor Swift • Fergie • Olivia Rodrigo • Gwen Stefani • One Direction • Sabrina Carpenter • Ke$ha • Justin Bieber • Kelly Clarkson • Shakira • Miley Cyrus • Chappell Roan • Dua Lipa • Natasha Bedingfield • Madonna • MARINA • Charli XCX • Rihanna • Kylie Minogue • Britney Spears • Sugarbabes • Justin Timberlake • Nicki Minaj • Bruno Mars • Harry Styles • Usher • Pitbull • The Pussycat Dolls • Cro • Vanessa Carlton\n\nTickets here!\n\n\nLet’s get those tickets and make history on the dance floor.\nSa. 25.01.25 // 23:59 // Connny Kramer // MünsterWir bei Instagram & SpotifyMinimum age: 18
URL:https://www.fade-club.de/event/peinlo-pop-party-3/
ATTACH;FMTTYPE=image/png:https://www.fade-club.de/wp-content/uploads/2025/01/Picture3.png
END:VEVENT
END:VCALENDAR