BEGIN:VCALENDAR
VERSION:2.0
PRODID:-//Fade Club - ECPv6.15.20//NONSGML v1.0//EN
CALSCALE:GREGORIAN
METHOD:PUBLISH
X-ORIGINAL-URL:https://www.fade-club.de
X-WR-CALDESC:Veranstaltungen für Fade Club
REFRESH-INTERVAL;VALUE=DURATION:PT1H
X-Robots-Tag:noindex
X-PUBLISHED-TTL:PT1H
BEGIN:VTIMEZONE
TZID:Europe/Berlin
BEGIN:DAYLIGHT
TZOFFSETFROM:+0100
TZOFFSETTO:+0200
TZNAME:CEST
DTSTART:20230326T010000
END:DAYLIGHT
BEGIN:STANDARD
TZOFFSETFROM:+0200
TZOFFSETTO:+0100
TZNAME:CET
DTSTART:20231029T010000
END:STANDARD
BEGIN:DAYLIGHT
TZOFFSETFROM:+0100
TZOFFSETTO:+0200
TZNAME:CEST
DTSTART:20240331T010000
END:DAYLIGHT
BEGIN:STANDARD
TZOFFSETFROM:+0200
TZOFFSETTO:+0100
TZNAME:CET
DTSTART:20241027T010000
END:STANDARD
BEGIN:DAYLIGHT
TZOFFSETFROM:+0100
TZOFFSETTO:+0200
TZNAME:CEST
DTSTART:20250330T010000
END:DAYLIGHT
BEGIN:STANDARD
TZOFFSETFROM:+0200
TZOFFSETTO:+0100
TZNAME:CET
DTSTART:20251026T010000
END:STANDARD
END:VTIMEZONE
BEGIN:VEVENT
DTSTART;TZID=Europe/Berlin:20241002T230000
DTEND;TZID=Europe/Berlin:20241003T050000
DTSTAMP:20260425T235244
CREATED:20240904T100718Z
LAST-MODIFIED:20240904T101142Z
UID:1852-1727910000-1727931600@www.fade-club.de
SUMMARY:KAMPLAND Clubfestival
DESCRIPTION:We are thrilled to announce our new edition of Kampland Club Festival at Hawerkamp/Münster on October 2nd 2024. On 5 floors we’ll present a line-up that leaves nothing to be desired and offers various techno\, electro\, house and trance acts:\n\nFJAAK: Our Berlin friends who simply always deliver in an incomparable way.\nMARRØN: The dutch artist will celebrate his Münster premiere with one of his spectacular hypnotic techno sets. Right now he’s without doubts one of the most exciting techno acts worldwide!\nSally C: The Northern Irish DJ represents a new generation of house DJs and is definitely on her way to the top!\nAlinka: Born in the Ukraine and growing up in Chicago she shares our love for Chicago House Music.\nCleopard2000: The Berlin shooting star will provide us with a solid neo-trance set which will entertain us to the fullest.\n\nNot to forget our local heroes Cutmaster Jay b2b Khetama\, Dennis Siemion\, Dylliboi_91\, Elisium\, Krackk\, LEVAA_\, LHYST\, Orient Exzess\, RAM & Kheta\, Robin Tasi\, Schumacher & Scheppat\, Skathi and Valeby.\n\nWe can’t wait to dance the night away with you on October 2nd on 5 floors in 3 clubs (Fusion\, Conny Kramer\, Favela) from 22:00h!\nSave the date and bring your biggest smile!\n\nTickets!
URL:https://www.fade-club.de/event/kampland-clubfestival/
ATTACH;FMTTYPE=image/png:https://www.fade-club.de/wp-content/uploads/2024/09/160824_Kampland_2024_1-1.png
END:VEVENT
BEGIN:VEVENT
DTSTART;TZID=Europe/Berlin:20241005T235900
DTEND;TZID=Europe/Berlin:20241006T050000
DTSTAMP:20260425T235244
CREATED:20240911T100045Z
LAST-MODIFIED:20240911T101150Z
UID:1871-1728172740-1728190800@www.fade-club.de
SUMMARY:Indie Pop Party
DESCRIPTION:Deep•Dive•in•die•Liebe! Am SA 05.10. ist es wieder soweit!   \n\n\n \n\n\nBei Münsters beliebtester Indie Party heißt es mitsingen\, als ob’s keiner hört und tanzen\, als ob keiner guckt. Und das alles zu den besten Indie Songs der heutigen Zeit! \n\n\nLos geht’s um 24 Uhr im Conny Kramer\, der Wohlfühllocation Münsters! Hier kann man unvergessliche Nächte verbringen und die Nacht zum Tag machen denn am Ende endet alles\, aber nie die Musik! \n\n\nLasst euch diesen Abend nicht entgehen und sichert euch jetzt eure Tickets! Für alle VVK Tickets die zwischen 0-1 Uhr kommen\, gibt es einen Shot aufs Haus!\n\n\n \n\n\nMit in der Playlist\n\n\nKraftklub | Von Wegen Lisbeth | Arctic Monkeys | Edwin Rosen | Dilla | Provinz | Paula Hartmann | Girl in Red | Raum 27 | Two Door Cinema Club | Mayberg | Berq | Madsen | Bilderbuch | Ennio | Paula Carolina | The Killers | Blond | Tränen | Danger Dan | Giant Rooks | Betterov | Casper | Kasi | Kaffkiez | BHZ | The Kooks |Bruckner | Leoniden | 01099 | Florence And The Machine | Harry Styles | Ski Aggu | Betterov | Franz Ferdinand | Oasis | Kraftklub | Jeremias | Kytes | The Strokes | Faber | Lostboi Lino | Arcade Fire | Drangsal | Purple Disco Machine | Editors | Millenium Kid | Wir sind Helden | Eli Preiss | Nina Chuba | Kummer | ok.danke.tschüss uvm…\n\n\nTickets here!
URL:https://www.fade-club.de/event/indie-pop-party/
ATTACH;FMTTYPE=image/png:https://www.fade-club.de/wp-content/uploads/2024/09/image00002.png
END:VEVENT
BEGIN:VEVENT
DTSTART;TZID=Europe/Berlin:20241011T230000
DTEND;TZID=Europe/Berlin:20241012T050000
DTSTAMP:20260425T235244
CREATED:20240918T095016Z
LAST-MODIFIED:20241010T103143Z
UID:1904-1728687600-1728709200@www.fade-club.de
SUMMARY:Bassmania
DESCRIPTION:Welcome to the biggest version of this years Bassmania! We are celebrating 15 years of beeing at the Hawerkamp Münster. Be Part of the collective joy of spreading yourself onto more than 10 Floors for small money! We deliver you every modern genre of electronic Music over here at just one spot! \nIf this isnt all\, we promise you packed floors full of love and passion! Bassmania at the Conny Kramer is for many people a special thing since a decade. Today its your chance to watch us at maximum force for running a festival like this. \n  \nTickets here!
URL:https://www.fade-club.de/event/bassmania-8/
ATTACH;FMTTYPE=image/jpeg:https://www.fade-club.de/wp-content/uploads/2024/09/WhatsApp-Image-2024-09-18-at-11.18.22-AM.jpeg
END:VEVENT
BEGIN:VEVENT
DTSTART;TZID=Europe/Berlin:20241012T235900
DTEND;TZID=Europe/Berlin:20241013T050000
DTSTAMP:20260425T235244
CREATED:20240927T093421Z
LAST-MODIFIED:20240927T094059Z
UID:1950-1728777540-1728795600@www.fade-club.de
SUMMARY:Pride
DESCRIPTION:Pride Party für Queers & Allies \nAm 12. Oktober verwandeln wir den Club Conny Kramer in das gemütlichste Wohnzimmer für die ultimative und queerste WG-Party – und DU bist eingeladen! \nGemeinsam feiern wir unsere Pride Party mit allen\, die Liebe\, Vielfalt und Toleranz leben. Ganz egal\, wer du bist oder wen du liebst – bei uns bist du genau richtig! \n🎧 DJ LUNATOM sorgt mit den heißesten Beats aus Charts und Clubbing für die beste Stimmung. Bekannt aus Münsters Clubbing-Szene\, unter anderem aus dem Heaven Club und der Roten Lola\, bringt DJ LUNATOM die Tanzfläche zum Beben. \nOb Queer oder Ally\, jeder ist herzlich willkommen – bei uns zählt nur eins: Zusammen feiern und Spaß haben! \n📅 Wann? Samstag\, 12. Oktober📍 Wo? Club Conny Kramer⏰ Einlass: 23:59 Uhr \n  \nTickets here! \n  \n📸 Kostenlose Fotobox inklusive! Halte die besten Momente fest und nimm unvergessliche Erinnerungen mit nach Hause! \nKommt vorbei\, feiert\, tanzt und lasst uns gemeinsam eine unvergessliche Nacht erleben!
URL:https://www.fade-club.de/event/pride-2/
ATTACH;FMTTYPE=image/png:https://www.fade-club.de/wp-content/uploads/2024/09/Unbenannt-1.png
END:VEVENT
BEGIN:VEVENT
DTSTART;TZID=Europe/Berlin:20241016T220000
DTEND;TZID=Europe/Berlin:20241017T050000
DTSTAMP:20260425T235244
CREATED:20240926T104552Z
LAST-MODIFIED:20241014T120916Z
UID:1938-1729116000-1729141200@www.fade-club.de
SUMMARY:Sungora
DESCRIPTION:We are thrilled to announce the Sungora Opening Night at Conny Kramer\, Münster on October 16th\, 2024! For our debut event\, we’ve curated a stellar line-up of top Afro House & House DJs who will set the dancefloor on fire: \n🎧 DAVE from Hamburg: Known for his dynamic sets and infectious beats\, ready to take you on a musical journey.🎧 Jana Nova from Berlin: Bringing the essence of the capital’s underground House scene with her irresistible sound.🎧 Tosca from Valencia: Famed for his vibrant energy and Afro House rhythms that will keep the crowd moving all night. \nThis is the beginning of something special. Be there as Sungora makes its mark in Münster’s nightlife. \n  \nDetails: \nDate: October 16th\, 2024 \nLocation: Conny Kramer \nDoors open at 22:00h \nTickets are available now – get your Ticket and don’t miss out on this night. \nTickets here!
URL:https://www.fade-club.de/event/sungora/
ATTACH;FMTTYPE=image/png:https://www.fade-club.de/wp-content/uploads/2024/09/Afro-House-Graphik.png
END:VEVENT
BEGIN:VEVENT
DTSTART;TZID=Europe/Berlin:20241018T235900
DTEND;TZID=Europe/Berlin:20241019T050000
DTSTAMP:20260425T235244
CREATED:20240913T102451Z
LAST-MODIFIED:20240913T103242Z
UID:1890-1729295940-1729314000@www.fade-club.de
SUMMARY:Trance Rapid
DESCRIPTION:MÜNSTER HERE WE GOOOOOur first own event in our beloved home town Münster comes with a big bang! We join forces with the cuties from galactic_harmony_records bringing you the real bounce!.Galactic Harmony x 538 pres. TRANCE RAPID \nBounce with…♡ djachimfeuervogel♡ delm.music♡ fumi.xoxo♡ r3d_mojo♡ serafina.music♡ zwilling.music \nTECHNO IST KUNST 💜 \nTickets here!
URL:https://www.fade-club.de/event/trance-rapid/
ATTACH;FMTTYPE=image/png:https://www.fade-club.de/wp-content/uploads/2024/09/1000081169.png
END:VEVENT
BEGIN:VEVENT
DTSTART;TZID=Europe/Berlin:20241019T230000
DTEND;TZID=Europe/Berlin:20241020T050000
DTSTAMP:20260425T235244
CREATED:20241016T101256Z
LAST-MODIFIED:20241016T104549Z
UID:2008-1729378800-1729400400@www.fade-club.de
SUMMARY:Kianush
DESCRIPTION:Am 19.10. steht eine fette Clubshow im Conny Kramer in Münster an – und wir haben eine echte Sensation für euch! Kianush\, Münsters Rapper\, gibt sich die Ehre\, bevor er auf große Tour geht. Bevor er die Bühnen der Republik rockt\, wird er bei uns für euch die Hütte abreißen! \nDen Sound des Abends liefert Deejay Kury\, der euch mit einer Mischung aus Hip-Hop\, RnB und allem\, was richtig knallt\, durch die Nacht bringt. Macht euch bereit für eine unvergessliche Party! \n  \nTickets here!
URL:https://www.fade-club.de/event/kianush-2/
ATTACH;FMTTYPE=image/webp:https://www.fade-club.de/wp-content/uploads/2024/10/webp.webp
END:VEVENT
BEGIN:VEVENT
DTSTART;TZID=Europe/Berlin:20241025T230000
DTEND;TZID=Europe/Berlin:20241026T050000
DTSTAMP:20260425T235244
CREATED:20241009T115344Z
LAST-MODIFIED:20241009T135659Z
UID:1972-1729897200-1729918800@www.fade-club.de
SUMMARY:Mint
DESCRIPTION:The prestigious RECKLESS is joining us on October 25th for a sweat session with a line up you have been craving for. The Dutch concept is bringing honcho DYEN alongside CLTX\, USH and their resident team. Yesolo will take care of the basement with an extended set. And in addition we offer you DJ Wasserfall\, Flaws\, Delm & Pechschwarz at the Conny Kramer. \n  \nTickets here!
URL:https://www.fade-club.de/event/1972/
ATTACH;FMTTYPE=image/jpeg:https://www.fade-club.de/wp-content/uploads/2024/10/IMG_3093-1.jpg
END:VEVENT
BEGIN:VEVENT
DTSTART;TZID=Europe/Berlin:20241026T235900
DTEND;TZID=Europe/Berlin:20241027T050000
DTSTAMP:20260425T235244
CREATED:20240911T100836Z
LAST-MODIFIED:20240911T101239Z
UID:1874-1729987140-1730005200@www.fade-club.de
SUMMARY:Wilde Herzen
DESCRIPTION:– Die Indie Pop Party mit deutschen Texten –\n\nMünster \, es war WILD! – Wir kommen nochmal rum! Unsere Herzen schlagen wild. Für Euch und für die Musik!\nDie Wilde Herzen lässt Kraftklub auf Schmyt treffen\, trinkt mit Provinz\, Kasi und Nina Chuba eine Luft und singt Arm in Arm mit Edwin Rosen und Paula Hartmann deine neuen Lieblingstracks aus der „Gemeinsam“-Playlist mit der besten Freundin.Klingt wie: Berq• Dilla • Mayberg • Provinz • Ennio • Edwin Rosen • Futurebae • Kraftklub • Dominik Hartz • Betterov • Bilderbuch • Blond • Bruckner • Makko • Danger Dan • Milliarden • Jeremias • Paula Hartmann • Salo • Kummer • Kasi • Blumengarten • Levin Liam • Trettmann • Casper • Wir sind Helden • Mola • Paula Carolina • Longus Mongus • PaulWetz\nSei auf jeden Fall dabei und sichere dir jetzt Dein Ticket!Fr. 26.10.24 // 23:59 // Conny Kramer// Münster// Präsentiert von King Kong Kicks\n\nTickets here!
URL:https://www.fade-club.de/event/wilde-herzen-2/
ATTACH;FMTTYPE=image/png:https://www.fade-club.de/wp-content/uploads/2024/09/2024-10-26-WH-Muenster-Feed-1.png
END:VEVENT
BEGIN:VEVENT
DTSTART;TZID=Europe/Berlin:20241031T230000
DTEND;TZID=Europe/Berlin:20241101T050000
DTSTAMP:20260425T235244
CREATED:20241009T120021Z
LAST-MODIFIED:20241009T120138Z
UID:1977-1730415600-1730437200@www.fade-club.de
SUMMARY:Halloween w/ MOONBOOTICA
DESCRIPTION:In 1999\, KOWE SIX and TOBI TOB formed MOONBOOTICA and since then they have been a guarantee for excessive fun with electronic music. Sold-out venues everywhere\, a sound that doesn’t fit into any box and an energy behind the desk that is second to none. These two giants are already legendary\, as is their Halloween show at Fusion! On this night\, Conny Kramer will also be hosted by the trance collective Fluid. Together with our talented Residents\, this night will be a big date with unique sounds. \n  \nTickets here!
URL:https://www.fade-club.de/event/halloween-w-moonbootica/
ATTACH;FMTTYPE=image/png:https://www.fade-club.de/wp-content/uploads/2024/10/230924_Moonbootica_1-1-1.png
END:VEVENT
END:VCALENDAR