BEGIN:VCALENDAR
VERSION:2.0
PRODID:-//Fade Club - ECPv6.15.20//NONSGML v1.0//EN
CALSCALE:GREGORIAN
METHOD:PUBLISH
X-ORIGINAL-URL:https://www.fade-club.de
X-WR-CALDESC:Veranstaltungen für Fade Club
REFRESH-INTERVAL;VALUE=DURATION:PT1H
X-Robots-Tag:noindex
X-PUBLISHED-TTL:PT1H
BEGIN:VTIMEZONE
TZID:Europe/Berlin
BEGIN:DAYLIGHT
TZOFFSETFROM:+0100
TZOFFSETTO:+0200
TZNAME:CEST
DTSTART:20230326T010000
END:DAYLIGHT
BEGIN:STANDARD
TZOFFSETFROM:+0200
TZOFFSETTO:+0100
TZNAME:CET
DTSTART:20231029T010000
END:STANDARD
BEGIN:DAYLIGHT
TZOFFSETFROM:+0100
TZOFFSETTO:+0200
TZNAME:CEST
DTSTART:20240331T010000
END:DAYLIGHT
BEGIN:STANDARD
TZOFFSETFROM:+0200
TZOFFSETTO:+0100
TZNAME:CET
DTSTART:20241027T010000
END:STANDARD
BEGIN:DAYLIGHT
TZOFFSETFROM:+0100
TZOFFSETTO:+0200
TZNAME:CEST
DTSTART:20250330T010000
END:DAYLIGHT
BEGIN:STANDARD
TZOFFSETFROM:+0200
TZOFFSETTO:+0100
TZNAME:CET
DTSTART:20251026T010000
END:STANDARD
END:VTIMEZONE
BEGIN:VEVENT
DTSTART;TZID=Europe/Berlin:20240706T235900
DTEND;TZID=Europe/Berlin:20240707T050000
DTSTAMP:20260426T041816
CREATED:20240612T163341Z
LAST-MODIFIED:20240612T163341Z
UID:1712-1720310340-1720328400@www.fade-club.de
SUMMARY:Wir Kinder vom Hawerkamp
DESCRIPTION:Sat. 06.07.24 – WKVH (LOVE EACH OTHER) \nStart: 23h – Entry €8\n\nWe’ve swiftly organized a Techno & House night with Conny Kramer for July 6th\, 2024\, \nand we’re thrilled to welcome you with full WKVH energy starting at 11 PM.\n\nLine up: \nPINKY – @pi.nky_68\nDENNIS SIEMION  – @dennissiemion\nACCUL – @accul.dj\nMARINO @redkismarino\nLEO SCHUER – @schuerleo\nCHRIS MEYERINK – @chrismeyerink\nHÜLSE – @luca.hulsmann\nAASMA – @juliusgres
URL:https://www.fade-club.de/event/wir-kinder-vom-hawerkamp/
LOCATION:Conny Kramer\, Am Hawerkamp 31\, Münster\, 48155\, Deutschland
ATTACH;FMTTYPE=image/png:https://www.fade-club.de/wp-content/uploads/2024/06/Bildschirmfoto-2024-06-12-um-17.27.47.png
END:VEVENT
BEGIN:VEVENT
DTSTART;TZID=Europe/Berlin:20240712T235900
DTEND;TZID=Europe/Berlin:20240713T050000
DTSTAMP:20260426T041816
CREATED:20240621T131805Z
LAST-MODIFIED:20240705T135317Z
UID:1718-1720828740-1720846800@www.fade-club.de
SUMMARY:Bassmania
DESCRIPTION:More Information tba.
URL:https://www.fade-club.de/event/bassmania-6/
LOCATION:Fusion & Conny Kramer
ATTACH;FMTTYPE=image/jpeg:https://www.fade-club.de/wp-content/uploads/2024/06/WhatsApp-Image-2024-06-10-at-15.28.16.jpeg
END:VEVENT
BEGIN:VEVENT
DTSTART;TZID=Europe/Berlin:20240713T235900
DTEND;TZID=Europe/Berlin:20240714T050000
DTSTAMP:20260426T041816
CREATED:20240705T135149Z
LAST-MODIFIED:20240705T135254Z
UID:1729-1720915140-1720933200@www.fade-club.de
SUMMARY:KING KONG KICKS
DESCRIPTION:Wild\, wilder\, King Kong Kicks! This shit just hits different! Sounds like: Arcade Fire\, Arctic Monkeys\, Betterov\, Blond\, Blumengarten\, Brutalismus 3000\, Casper\, Dilla\, Edwin Rosen\, Ennio\, Florence And The Machine\, Fred again..\, Giant Rooks\, girl in red\, Jeremias\, kasi\, Leoniden\, Mando Diao\, Marlon Hoffstadt\, Mayberg\, MGMT\, Paula Carolina\, Paula Hartmann\, Phoenix\, Provinz\, Royel Otis\, Sam Fender\, Ski Aggu\, The Killers\, The Strokes\, Two Door Cinema Club\, UCHE YARA\, Wet LegKing Kong kickt in deinen Club und bringt dir eine Nacht wie eine wilde Umarmung\, best Friends mit dem Gefühl von Ankommen und Abgehen\, tanzende Körper gehüllt in Indie-Pop\, der sich wie ein Fluss im liebevollen Mix ins Herz spült\, es regelrecht überschwemmt.Energetisch\, sinnlich\, frei\, denn das mit uns ist nicht mehr normal. Wer safe drin sein will\, sichert sich ganz einfach ein Ticket! Sa. 13.07.24 // 23:59 Uhr // Conny Kramer // MünsterTickets! Minimum age: 18Bitte seht in eurem eigenen Interesse davon ab\, Tickets bei Drittanbieter zu kaufen.
URL:https://www.fade-club.de/event/king-kong-kicks-7/
LOCATION:Conny Kramer\, Am Hawerkamp 31\, Münster\, 48155\, Deutschland
ATTACH;FMTTYPE=image/png:https://www.fade-club.de/wp-content/uploads/2024/07/King-Kong-Kicks-Header.png
END:VEVENT
BEGIN:VEVENT
DTSTART;TZID=Europe/Berlin:20240727T235900
DTEND;TZID=Europe/Berlin:20240728T050000
DTSTAMP:20260426T041816
CREATED:20240705T134415Z
LAST-MODIFIED:20240705T135237Z
UID:1726-1722124740-1722142800@www.fade-club.de
SUMMARY:Peinlo Pop
DESCRIPTION:Sounds like:\nAvril Lavigne • Vanessa Carlton • Taylor Swift • Fergie • t.A.T.u • Gwen Stefani • One Direction • Jonas Brothers • Akon • Justin Bieber • Kelly Clarkson • Shakira • Miley Cyrus • Ronan Keating • Charlie Puth • Natasha Bedingfield • Madonna • Natalie Imbruglia • Ed Sheeran • Rihanna • Kylie Minogue • Britney Spears • Sugarbabes • Justin Timberlake • Nicki Minaj • Panic! at the Disco • Harry Styles • Usher • Pitbull • The Pussycat Dolls • Cro\nDie halbvolle Flasche vorm Club fallenlassen ist peinlo.\nBeim Ausrasten den Haustürschlüssel verlieren ist auch peinlo.\nDen Namen deiner Knutschbekanntschaft vergessen ist mega peinlo.\nAber Peinlo ist auch deine Lieblingsparty mit Pop-Hits-Geballer\, aufgefüllt mit Awkward Darlings\, Guilty Pleasures & TikTok Moves.\nAlso Handy hoch\, schwitzen und singen\, denn You know it’s not the same as it was.\nSichere Dir jetzt dein Ticket.\nTickets \nSa 27.07.2024 // 23:59 // Conny Kramer // presented by King Kong Kicks\nMinimum age: 18
URL:https://www.fade-club.de/event/peinlo-pop/
LOCATION:Conny Kramer\, Am Hawerkamp 31\, Münster\, 48155\, Deutschland
ATTACH;FMTTYPE=image/png:https://www.fade-club.de/wp-content/uploads/2024/07/Peinlo-Pop-Party-Header.png
END:VEVENT
END:VCALENDAR