BEGIN:VCALENDAR
VERSION:2.0
PRODID:-//Fade Club - ECPv6.15.20//NONSGML v1.0//EN
CALSCALE:GREGORIAN
METHOD:PUBLISH
X-ORIGINAL-URL:https://www.fade-club.de
X-WR-CALDESC:Veranstaltungen für Fade Club
REFRESH-INTERVAL;VALUE=DURATION:PT1H
X-Robots-Tag:noindex
X-PUBLISHED-TTL:PT1H
BEGIN:VTIMEZONE
TZID:Europe/Berlin
BEGIN:DAYLIGHT
TZOFFSETFROM:+0100
TZOFFSETTO:+0200
TZNAME:CEST
DTSTART:20230326T010000
END:DAYLIGHT
BEGIN:STANDARD
TZOFFSETFROM:+0200
TZOFFSETTO:+0100
TZNAME:CET
DTSTART:20231029T010000
END:STANDARD
BEGIN:DAYLIGHT
TZOFFSETFROM:+0100
TZOFFSETTO:+0200
TZNAME:CEST
DTSTART:20240331T010000
END:DAYLIGHT
BEGIN:STANDARD
TZOFFSETFROM:+0200
TZOFFSETTO:+0100
TZNAME:CET
DTSTART:20241027T010000
END:STANDARD
BEGIN:DAYLIGHT
TZOFFSETFROM:+0100
TZOFFSETTO:+0200
TZNAME:CEST
DTSTART:20250330T010000
END:DAYLIGHT
BEGIN:STANDARD
TZOFFSETFROM:+0200
TZOFFSETTO:+0100
TZNAME:CET
DTSTART:20251026T010000
END:STANDARD
END:VTIMEZONE
BEGIN:VEVENT
DTSTART;TZID=Europe/Berlin:20240531T235900
DTEND;TZID=Europe/Berlin:20240601T050000
DTSTAMP:20260426T054343
CREATED:20240424T155903Z
LAST-MODIFIED:20240424T155914Z
UID:1660-1717199940-1717218000@www.fade-club.de
SUMMARY:Anthrazit w/ Parapher & Joe Sane
DESCRIPTION:🩸𝖆𝖓𝖓𝖔𝖚𝖓𝖈𝖊𝖒𝖊𝖓𝖙🩸\nAnthrazit at CONNY KRAMER\n31.05.24 23:59\nAm 31.05 ist Anthrazit das erste Mal bei uns Im Conny! Ihr könnt euch auf ein fettes Line Up mit Parapher aus Griechenland und JOE SANE aus den Niederlanden freuen! Außerdem feiern an diesem Abend Anthrazits Residents M/R-K\, WRȺTH und XØRRØẞ sowie India ihren Geburtstag. \n𝖑𝖎𝖓𝖊 𝖚𝖕\nPARAPHER\nJOE SANE\nILLUMINATI\nM/R-K\nWRȺTH\nKNGSLYR \nGet your Tickets now! \n𝖎𝖓𝖋𝖔𝖘\n31.05.24 23:59 UHR\nLOCATION: CONNY KRAMER\nAM HAWERKAMP 31\,48155 MÜNSTER\nIN- & OUTDOOR CHILL OUT AREA\nANTHRAZIT AWARENESSTEAM\n18+\nNO PHOTO POLICY
URL:https://www.fade-club.de/event/anthrazit-w-parapher-joe-sane/
LOCATION:Conny Kramer\, Am Hawerkamp 31\, Münster\, 48155\, Deutschland
ATTACH;FMTTYPE=image/png:https://www.fade-club.de/wp-content/uploads/2024/04/Bildschirmfoto-2024-04-24-um-17.44.42-1.png
END:VEVENT
BEGIN:VEVENT
DTSTART;TZID=Europe/Berlin:20240601T235900
DTEND;TZID=Europe/Berlin:20240602T050000
DTSTAMP:20260426T054343
CREATED:20240517T140825Z
LAST-MODIFIED:20240522T123410Z
UID:1680-1717286340-1717304400@www.fade-club.de
SUMMARY:INDIE LIEBE
DESCRIPTION:Deep•Dive•in•die•Liebe! Am SA 01.06. ist es wieder soweit! 🎶🕺🧡 \nBei Münsters beliebtester Indie Party heißt es mitsingen\, als ob’s keiner hört und tanzen\, als ob keiner guckt. Und das alles zu den besten Indie Songs der heutigen Zeit! 💫 \nLos geht’s um 24 Uhr im Conny Kramer\, der Wohlfühllocation Münsters! Hier kann man unvergessliche Nächte verbringen und die Nacht zum Tag machen 💫 denn am Ende endet alles\, aber nie die Musik! \nLasst euch diesen Abend nicht entgehen und sichert euch jetzt eure Tickets! 🎟️🔥 Für alle VVK Tickets die zwischen 0-1 Uhr kommen\, gibt es einen Shot aufs Haus 👌 \nGet your Tickets now!  \nMit in der Playlist \nKraftklub | Von Wegen Lisbeth | Arctic Monkeys | Edwin Rosen | Dilla | Provinz | Paula Hartmann | Girl in Red | Raum 27 | Two Door Cinema Club | Mayberg | Berq | Madsen | Bilderbuch | Ennio | Paula Carolina | The Killers | Blond | Tränen | Danger Dan | Giant Rooks | Betterov | Casper | Kasi | Kaffkiez | BHZ | The Kooks |Bruckner | Leoniden | 01099 | Florence And The Machine | Harry Styles | Ski Aggu | Betterov | Franz Ferdinand | Oasis | Kraftklub | Jeremias | Kytes | The Strokes | Faber | Lostboi Lino | Arcade Fire | Drangsal | Purple Disco Machine | Editors | Millenium Kid | Wir sind Helden | Eli Preiss | Nina Chuba | Kummer | ok.danke.tschüss uvm…
URL:https://www.fade-club.de/event/indie-liebe-4/
LOCATION:Conny Kramer\, Am Hawerkamp 31\, Münster\, 48155\, Deutschland
ATTACH;FMTTYPE=image/jpeg:https://www.fade-club.de/wp-content/uploads/2024/05/7dcc9326-ae9c-4e8a-ba65-5a9309c9aac8.jpg
END:VEVENT
BEGIN:VEVENT
DTSTART;TZID=Europe/Berlin:20240608T113000
DTEND;TZID=Europe/Berlin:20240609T080000
DTSTAMP:20260426T054343
CREATED:20230928T114817Z
LAST-MODIFIED:20240508T103734Z
UID:1460-1717846200-1717920000@www.fade-club.de
SUMMARY:DOCKLANDS FESTIVAL 2024
DESCRIPTION:Infos folgen.\nVVK läuft schon unter www.docklands-festival.ticket.io\nBist du 2023 18 Jahre alt geworden oder wirst es noch? dann sicher dir dein Ticket for free mit dem Kulturpass!!!\nGeh einfach auf den Button auf der Docklands Homepage
URL:https://www.fade-club.de/event/docklands-festival-2024/
LOCATION:Hawerkamp
ATTACH;FMTTYPE=image/jpeg:https://www.fade-club.de/wp-content/uploads/2023/09/251023_DL_Ticketbanner_Insta-1.jpg
END:VEVENT
BEGIN:VEVENT
DTSTART;TZID=Europe/Berlin:20240614T235900
DTEND;TZID=Europe/Berlin:20240615T050000
DTSTAMP:20260426T054343
CREATED:20240603T150803Z
LAST-MODIFIED:20240610T123328Z
UID:1693-1718409540-1718427600@www.fade-club.de
SUMMARY:FLUID VOL. 1
DESCRIPTION:FLUID VOL. 1\nFür die erste Ausgabe von FLUID bringen wir eine Mischung aus Trance\, Bouncy-Techno und Groove ins Conny Kramer.💃🏻🕺🏼\nDafür haben wir uns keinen geringeren als HEGGEMANN eingeladen\, der mit seinen wunderbaren Eigenproduktionen die Tanzflächen in ganz Deutschland zum Beben bringt🚀.\nAbgerundet wird das Line-Up von DJ High Mo\, der mit seinem Trance-Sound überzeugt. DJ Echtpelz bringt den Bochumer Groove ins Conny und jonny_horse nimmt euch mit auf einen 2 stündigen Ritt durch das Land der Basslines.🔊💣 \nGet your Tickets now!\nLineup:\nHEGGEMANN\nHIGH MO\nDJ ECHTPELZ\nJONNY HORSE
URL:https://www.fade-club.de/event/fluid-vol-1/
LOCATION:Conny Kramer\, Am Hawerkamp 31\, Münster\, 48155\, Deutschland
ATTACH;FMTTYPE=image/jpeg:https://www.fade-club.de/wp-content/uploads/2024/06/IMG_4876.jpg
END:VEVENT
BEGIN:VEVENT
DTSTART;TZID=Europe/Berlin:20240615T230000
DTEND;TZID=Europe/Berlin:20240616T050000
DTSTAMP:20260426T054343
CREATED:20240612T132658Z
LAST-MODIFIED:20240612T132757Z
UID:1702-1718492400-1718514000@www.fade-club.de
SUMMARY:PRIDE
DESCRIPTION:Das Warten hat endlich ein Ende! Wir feiern mit euch am 15. Juni die nächste Pride Party \nDjane @laraliqueur wird euch bei einem Mix aus Pop und House durch die Nacht begleiten. \nVVK Tickets 10€ \nAK Tickets 12€ \nTICKETS!\n15.06 | 23:59h | 18+ \n 
URL:https://www.fade-club.de/event/pride/
LOCATION:Conny Kramer\, Am Hawerkamp 31\, Münster\, 48155\, Deutschland
ATTACH;FMTTYPE=image/jpeg:https://www.fade-club.de/wp-content/uploads/2024/06/image0.jpg
END:VEVENT
BEGIN:VEVENT
DTSTART;TZID=Europe/Berlin:20240628T235900
DTEND;TZID=Europe/Berlin:20240629T050000
DTSTAMP:20260426T054343
CREATED:20240610T140234Z
LAST-MODIFIED:20240612T132345Z
UID:1699-1719619140-1719637200@www.fade-club.de
SUMMARY:Exodus
DESCRIPTION:Exodus.exe has initialized… Get ready for a revolutionary journey! Elysium proudly announces its debut in Münster\, teaming up with Mischstation! The legendary Conny Kramer will be the venue for an epic night of mystery and excitement. Stay tuned for the electrifying DJ lineup\, soon to be revealed.\nEvent Details:\n– Date: 28.06\n– Location: Conny Kramer\, Münster \nTicket Phases:\n– Blind Tickets: 5€ 💥\n– Early Bird Tickets: 8€ ⛓️\n– Late Bird Tickets: 10€ 💥\n– Reguläre Tickets: 12€ ⛓️ \nGet your Tickets now! \nLine up \n\nMzperx\nCLX [Elysium\, CPDO\, Manifest]\nMV [Unhold]\nDer Wagner [RDT] B2B Azenti [RDT\, MISCHSTATION]\nLewø [Manifest\, MISCHSTATION] B2B Rui Da Silva [Elysium\, Berryelectro]\nDolorian[Elysium] B2B Technotherapeutin [CPDO\, Morgengrau:en ]\nÆcho [Elysium] B2B BASSBARON [Mischstation\, RBK\, Tripto\n\nSpecials:\n– Welcome shots to ignite your night! 🥃🔥\n– Mesmerizing light shows to enchant your soul! ✨🌌\n– State-of-the-art sound system to engulf you! 🔊🎶\n– Pure Hardtechno\, no compromises! 🚀🔥 \nRules:\n– No racism! ❌\n– No sexism! ❌\n– Everyone will be respected as they are! 👍🙌
URL:https://www.fade-club.de/event/exodus/
LOCATION:Conny Kramer\, Am Hawerkamp 31\, Münster\, 48155\, Deutschland
ATTACH;FMTTYPE=image/jpeg:https://www.fade-club.de/wp-content/uploads/2024/06/bf51bcce-5ac1-42f0-99c9-4d710eb6dee5.jpg
END:VEVENT
BEGIN:VEVENT
DTSTART;TZID=Europe/Berlin:20240629T235900
DTEND;TZID=Europe/Berlin:20240630T050000
DTSTAMP:20260426T054343
CREATED:20240522T123305Z
LAST-MODIFIED:20240522T123428Z
UID:1686-1719705540-1719723600@www.fade-club.de
SUMMARY:INDIE LEIBE
DESCRIPTION:Deep•Dive•in•die•Liebe! Am SA 29.06. ist es wieder soweit! 🎶🕺🧡 \nBei Münsters beliebtester Indie Party heißt es mitsingen\, als ob’s keiner hört und tanzen\, als ob keiner guckt. Und das alles zu den besten Indie Songs der heutigen Zeit! 💫 \nLos geht’s um 24 Uhr im Conny Kramer\, der Wohlfühllocation Münsters! Hier kann man unvergessliche Nächte verbringen und die Nacht zum Tag machen 💫 denn am Ende endet alles\, aber nie die Musik! \nLasst euch diesen Abend nicht entgehen und sichert euch jetzt eure Tickets! 🎟️🔥 Für alle VVK Tickets die zwischen 0-1 Uhr kommen\, gibt es einen Shot aufs Haus 👌 \nGet your Tickets now! \nMit in der Playlist \nKraftklub | Von Wegen Lisbeth | Arctic Monkeys | Edwin Rosen | Dilla | Provinz | Paula Hartmann | Girl in Red | Raum 27 | Two Door Cinema Club | Mayberg | Berq | Madsen | Bilderbuch | Ennio | Paula Carolina | The Killers | Blond | Tränen | Danger Dan | Giant Rooks | Betterov | Casper | Kasi | Kaffkiez | BHZ | The Kooks |Bruckner | Leoniden | 01099 | Florence And The Machine | Harry Styles | Ski Aggu | Betterov | Franz Ferdinand | Oasis | Kraftklub | Jeremias | Kytes | The Strokes | Faber | Lostboi Lino | Arcade Fire | Drangsal | Purple Disco Machine | Editors | Millenium Kid | Wir sind Helden | Eli Preiss | Nina Chuba | Kummer | ok.danke.tschüss uvm…
URL:https://www.fade-club.de/event/indie-leibe/
LOCATION:Conny Kramer\, Am Hawerkamp 31\, Münster\, 48155\, Deutschland
ATTACH;FMTTYPE=image/jpeg:https://www.fade-club.de/wp-content/uploads/2024/05/WhatsApp-Image-2024-05-21-at-22.09.26.jpeg
END:VEVENT
END:VCALENDAR