BEGIN:VCALENDAR
VERSION:2.0
PRODID:-//Fade Club - ECPv6.15.20//NONSGML v1.0//EN
CALSCALE:GREGORIAN
METHOD:PUBLISH
X-WR-CALNAME:Fade Club
X-ORIGINAL-URL:https://www.fade-club.de
X-WR-CALDESC:Veranstaltungen für Fade Club
REFRESH-INTERVAL;VALUE=DURATION:PT1H
X-Robots-Tag:noindex
X-PUBLISHED-TTL:PT1H
BEGIN:VTIMEZONE
TZID:Europe/Berlin
BEGIN:DAYLIGHT
TZOFFSETFROM:+0100
TZOFFSETTO:+0200
TZNAME:CEST
DTSTART:20250330T010000
END:DAYLIGHT
BEGIN:STANDARD
TZOFFSETFROM:+0200
TZOFFSETTO:+0100
TZNAME:CET
DTSTART:20251026T010000
END:STANDARD
BEGIN:DAYLIGHT
TZOFFSETFROM:+0100
TZOFFSETTO:+0200
TZNAME:CEST
DTSTART:20260329T010000
END:DAYLIGHT
BEGIN:STANDARD
TZOFFSETFROM:+0200
TZOFFSETTO:+0100
TZNAME:CET
DTSTART:20261025T010000
END:STANDARD
BEGIN:DAYLIGHT
TZOFFSETFROM:+0100
TZOFFSETTO:+0200
TZNAME:CEST
DTSTART:20270328T010000
END:DAYLIGHT
BEGIN:STANDARD
TZOFFSETFROM:+0200
TZOFFSETTO:+0100
TZNAME:CET
DTSTART:20271031T010000
END:STANDARD
END:VTIMEZONE
BEGIN:VEVENT
DTSTART;TZID=Europe/Berlin:20260321T223000
DTEND;TZID=Europe/Berlin:20260322T050000
DTSTAMP:20260425T004312
CREATED:20260303T102918Z
LAST-MODIFIED:20260309T104157Z
UID:2903-1774132200-1774155600@www.fade-club.de
SUMMARY:Smack my Beat up w/ LUNATOM
DESCRIPTION:Music you once had on repeat.\nSongs you fell in love to.\nTracks that bring back memories you forgot you had. \nOn March 21st we rewind time and turn it up again – 90s\, Indie\, Alternative & Rave all night long 🔥💿\nJust pure nostalgia and sweaty dancefloor moments with your favorite people. \nSmack My Beat Up w/ LUNATOM – all night long\n📅 21.03.26\n📍Fade Club\n⏰ Doors 22:30 \nCome for the memories. Stay for the madness. 🖤 \nTICKETS
URL:https://www.fade-club.de/event/smack-my-beat-up-w-lunatom/
ATTACH;FMTTYPE=image/jpeg:https://www.fade-club.de/wp-content/uploads/2026/03/16x9.jpeg
END:VEVENT
END:VCALENDAR