BEGIN:VCALENDAR
VERSION:2.0
PRODID:-//Fade Club - ECPv6.15.20//NONSGML v1.0//EN
CALSCALE:GREGORIAN
METHOD:PUBLISH
X-WR-CALNAME:Fade Club
X-ORIGINAL-URL:https://www.fade-club.de
X-WR-CALDESC:Veranstaltungen für Fade Club
REFRESH-INTERVAL;VALUE=DURATION:PT1H
X-Robots-Tag:noindex
X-PUBLISHED-TTL:PT1H
BEGIN:VTIMEZONE
TZID:Europe/Berlin
BEGIN:DAYLIGHT
TZOFFSETFROM:+0100
TZOFFSETTO:+0200
TZNAME:CEST
DTSTART:20250330T010000
END:DAYLIGHT
BEGIN:STANDARD
TZOFFSETFROM:+0200
TZOFFSETTO:+0100
TZNAME:CET
DTSTART:20251026T010000
END:STANDARD
BEGIN:DAYLIGHT
TZOFFSETFROM:+0100
TZOFFSETTO:+0200
TZNAME:CEST
DTSTART:20260329T010000
END:DAYLIGHT
BEGIN:STANDARD
TZOFFSETFROM:+0200
TZOFFSETTO:+0100
TZNAME:CET
DTSTART:20261025T010000
END:STANDARD
BEGIN:DAYLIGHT
TZOFFSETFROM:+0100
TZOFFSETTO:+0200
TZNAME:CEST
DTSTART:20270328T010000
END:DAYLIGHT
BEGIN:STANDARD
TZOFFSETFROM:+0200
TZOFFSETTO:+0100
TZNAME:CET
DTSTART:20271031T010000
END:STANDARD
END:VTIMEZONE
BEGIN:VEVENT
DTSTART;TZID=Europe/Berlin:20260307T235900
DTEND;TZID=Europe/Berlin:20260308T235900
DTSTAMP:20260425T004050
CREATED:20260218T160453Z
LAST-MODIFIED:20260218T161522Z
UID:2883-1772927940-1773014340@www.fade-club.de
SUMMARY:ONYX BERLIN w/ Antonym & Human Error
DESCRIPTION:ONYX lands at FADE CLUB🚨 \nMünster stay ready for our signature sound straight out of BERLIN! \nTickets are available via RA \nTICKETS
URL:https://www.fade-club.de/event/onyx-berlin-w-antonym-human-error/
ATTACH;FMTTYPE=image/webp:https://www.fade-club.de/wp-content/uploads/2026/02/7a21a14ec8b6f17675c9abd467382d69b2816469.webp
END:VEVENT
END:VCALENDAR