BEGIN:VCALENDAR
VERSION:2.0
PRODID:-//Fade Club - ECPv6.15.20//NONSGML v1.0//EN
CALSCALE:GREGORIAN
METHOD:PUBLISH
X-WR-CALNAME:Fade Club
X-ORIGINAL-URL:https://www.fade-club.de
X-WR-CALDESC:Veranstaltungen für Fade Club
REFRESH-INTERVAL;VALUE=DURATION:PT1H
X-Robots-Tag:noindex
X-PUBLISHED-TTL:PT1H
BEGIN:VTIMEZONE
TZID:Europe/Berlin
BEGIN:DAYLIGHT
TZOFFSETFROM:+0100
TZOFFSETTO:+0200
TZNAME:CEST
DTSTART:20250330T010000
END:DAYLIGHT
BEGIN:STANDARD
TZOFFSETFROM:+0200
TZOFFSETTO:+0100
TZNAME:CET
DTSTART:20251026T010000
END:STANDARD
BEGIN:DAYLIGHT
TZOFFSETFROM:+0100
TZOFFSETTO:+0200
TZNAME:CEST
DTSTART:20260329T010000
END:DAYLIGHT
BEGIN:STANDARD
TZOFFSETFROM:+0200
TZOFFSETTO:+0100
TZNAME:CET
DTSTART:20261025T010000
END:STANDARD
BEGIN:DAYLIGHT
TZOFFSETFROM:+0100
TZOFFSETTO:+0200
TZNAME:CEST
DTSTART:20270328T010000
END:DAYLIGHT
BEGIN:STANDARD
TZOFFSETFROM:+0200
TZOFFSETTO:+0100
TZNAME:CET
DTSTART:20271031T010000
END:STANDARD
END:VTIMEZONE
BEGIN:VEVENT
DTSTART;TZID=Europe/Berlin:20260221T235900
DTEND;TZID=Europe/Berlin:20260221T235900
DTSTAMP:20260425T020355
CREATED:20260106T123741Z
LAST-MODIFIED:20260106T123741Z
UID:2855-1771718340-1771718340@www.fade-club.de
SUMMARY:BRATty
DESCRIPTION:bratty means diving into a feeling that’s more than just the album “brat“ – it’s a statement! this is where sounds hit that you won’t hear in a regular club: queer\, rough\, euphoric. 💚 \ny2k fashion on the dancefloor\, crop tops\, glitter\, low-rise jeans and sunglasses in the club. phones capturing blurry memories while the DJ drops every bratty-coded banger: charli xcx\, kesha\, kim petras\, billie eilish\, ayesha erotica\, ikkimel\, lorde\, pinkpantheress\, cobrah\, adéla\, lady gaga & more. \nbratty isn’t a season – it’s a lifestyle\, a safe space\, a release beyond the mainstream. \nsa. february 21st 2026 // 23:59 // fade // muenster \nminimum age: 18+ \nget your ticket now 🎫 \nTICKETS
URL:https://www.fade-club.de/event/bratty/
ATTACH;FMTTYPE=image/png:https://www.fade-club.de/wp-content/uploads/2026/01/2026-02-21-bratty-muenster-feed-scaled.png
END:VEVENT
END:VCALENDAR