BEGIN:VCALENDAR
VERSION:2.0
PRODID:-//Fade Club - ECPv6.15.20//NONSGML v1.0//EN
CALSCALE:GREGORIAN
METHOD:PUBLISH
X-WR-CALNAME:Fade Club
X-ORIGINAL-URL:https://www.fade-club.de
X-WR-CALDESC:Veranstaltungen für Fade Club
REFRESH-INTERVAL;VALUE=DURATION:PT1H
X-Robots-Tag:noindex
X-PUBLISHED-TTL:PT1H
BEGIN:VTIMEZONE
TZID:Europe/Berlin
BEGIN:DAYLIGHT
TZOFFSETFROM:+0100
TZOFFSETTO:+0200
TZNAME:CEST
DTSTART:20250330T010000
END:DAYLIGHT
BEGIN:STANDARD
TZOFFSETFROM:+0200
TZOFFSETTO:+0100
TZNAME:CET
DTSTART:20251026T010000
END:STANDARD
BEGIN:DAYLIGHT
TZOFFSETFROM:+0100
TZOFFSETTO:+0200
TZNAME:CEST
DTSTART:20260329T010000
END:DAYLIGHT
BEGIN:STANDARD
TZOFFSETFROM:+0200
TZOFFSETTO:+0100
TZNAME:CET
DTSTART:20261025T010000
END:STANDARD
BEGIN:DAYLIGHT
TZOFFSETFROM:+0100
TZOFFSETTO:+0200
TZNAME:CEST
DTSTART:20270328T010000
END:DAYLIGHT
BEGIN:STANDARD
TZOFFSETFROM:+0200
TZOFFSETTO:+0100
TZNAME:CET
DTSTART:20271031T010000
END:STANDARD
END:VTIMEZONE
BEGIN:VEVENT
DTSTART;TZID=Europe/Berlin:20260110T235900
DTEND;TZID=Europe/Berlin:20260111T050000
DTSTAMP:20260425T033308
CREATED:20251208T201829Z
LAST-MODIFIED:20260106T120750Z
UID:2827-1768089540-1768107600@www.fade-club.de
SUMMARY:King Kong Kicks
DESCRIPTION:Wild\, wilder\, King Kong Kicks! This shit just hits different! 🔥 \nSounds like: Lola Young\, Kraftklub\, Nina Chuba\, Ritter Lean\, Zartmann\, Ivo Martin\, Ion Miles\, Makko\, Blair Muir\, Boy\, Lorde\, Ikkimel\, Doechii\, The Killers\, Leoniden\, Berq\, Provinz\, Sombr\, Blond\, kasi\, Two Door Cinema Club\, Ski Aggu\, Edwin Rosen\, Florence + The Machine… \nKing Kong storms into your club and gives you a night like a wild embrace – best friends with that feeling of arriving and taking off\, bodies dancing\, wrapped in indie pop that pours into your heart like a river in a loving mix\, flooding it completely. 🥳🎉 \nEnergetic\, sensual\, free – because what’s happening with us is anything but normal🤩 \nIf you want to be in for sure\, just grab a ticket! \n\nTICKETS
URL:https://www.fade-club.de/event/king-kong-kicks-15/
LOCATION:Fade Club\, Am Hawerkamp 31\, Münster\, Nordrhein-Westfalen\, 48155\, Germany
ATTACH;FMTTYPE=image/jpeg:https://www.fade-club.de/wp-content/uploads/2025/12/WhatsApp-Image-2025-12-02-at-17.18.18.jpeg
END:VEVENT
END:VCALENDAR