BEGIN:VCALENDAR
VERSION:2.0
PRODID:-//Fade Club - ECPv6.15.20//NONSGML v1.0//EN
CALSCALE:GREGORIAN
METHOD:PUBLISH
X-WR-CALNAME:Fade Club
X-ORIGINAL-URL:https://www.fade-club.de
X-WR-CALDESC:Veranstaltungen für Fade Club
REFRESH-INTERVAL;VALUE=DURATION:PT1H
X-Robots-Tag:noindex
X-PUBLISHED-TTL:PT1H
BEGIN:VTIMEZONE
TZID:Europe/Berlin
BEGIN:DAYLIGHT
TZOFFSETFROM:+0100
TZOFFSETTO:+0200
TZNAME:CEST
DTSTART:20240331T010000
END:DAYLIGHT
BEGIN:STANDARD
TZOFFSETFROM:+0200
TZOFFSETTO:+0100
TZNAME:CET
DTSTART:20241027T010000
END:STANDARD
BEGIN:DAYLIGHT
TZOFFSETFROM:+0100
TZOFFSETTO:+0200
TZNAME:CEST
DTSTART:20250330T010000
END:DAYLIGHT
BEGIN:STANDARD
TZOFFSETFROM:+0200
TZOFFSETTO:+0100
TZNAME:CET
DTSTART:20251026T010000
END:STANDARD
BEGIN:DAYLIGHT
TZOFFSETFROM:+0100
TZOFFSETTO:+0200
TZNAME:CEST
DTSTART:20260329T010000
END:DAYLIGHT
BEGIN:STANDARD
TZOFFSETFROM:+0200
TZOFFSETTO:+0100
TZNAME:CET
DTSTART:20261025T010000
END:STANDARD
END:VTIMEZONE
BEGIN:VEVENT
DTSTART;TZID=Europe/Berlin:20251114T235900
DTEND;TZID=Europe/Berlin:20251115T050000
DTSTAMP:20260425T062239
CREATED:20251021T161103Z
LAST-MODIFIED:20251021T163516Z
UID:2735-1763164740-1763182800@www.fade-club.de
SUMMARY:Schichtwechsel
DESCRIPTION:Keine Genregrenzen im FADE… \nVon melodisch bis massiv\, zwischen Progressive House und hypnotic Hardgroove\, passiert der\neigentliche Schichtwechsel: von Alltag zu Ekstase \nUnser erster Schichtwechsel im @fadeclub.ms bringt bekannte Gesichter aus dem Kollektiv zusammen und\nfeiert\, was uns verbindet: Musik\, Freundschaft und die Münsteraner Szene. \n@aylinnjadj bringt groovigen Techno mit hypnotischen und psychedelischen Vibes auf den Floor –\ntief\, gefühlvoll und voller Energie. Mit Gigs unter anderem im @fusion_muenster\, bei @bccoberlin\,\nim @junkyard_electronic und im @tresor.west zeigt sie\, wie intuitiv sie sich in den Moment\neinfühlen kann. Ihre Sets sind eine Einladung\, loszulassen\, sich treiben zu lassen und im Sound zu\nverschwinden. \n@Jonas_htw verbindet treibende Grooves mit Disco-Flair und proggy House Einflüssen – mal\nverspielt und sonnig\, mal mit ordentlich Druck. Mit jahrelanger Erfahrung an den Decks und einem\nfeinen Gespür für den Vibe bringt er Struktur\, Ruhe und Flow in jedes Set. Als fester Bestandteil von\n@wann.schichtwechsel prägt er den Sound des Kollektivs mit seinem klaren Gefühl für Dynamik und\nAtmosphäre. \n@j.branko.wav eröffnet Nächte mit Seele und Feingefühl. Schon bei unserem ersten Event hat er bewiesen\, dass er weiß\, wie man aus Stille Bewegung macht. Sein Sound: treibender\,\nproggyelastischer House – warm\, hypnotisch und voller Groove. Seit Jahren fest in der Münsteraner Szene verwurzelt\, steht er inzwischen immer öfter hinter den Club Decks und bleibt dabei der Meister des Openings. \n@sherlockdj_ steht für präzisen\, druckvollen Techno mit hypnotischer Tiefe. Seine Sets sind\ndurchdacht bis ins Detail – aufgebaut mit Spannung\, Energie und klarer Dramaturgie. Wer ihn hört\, merkt schnell: Hier wird nicht nur gespielt\, hier wird konstruiert. Nach seinem Debüt im @fusion_muenster und als Teil des @obskur__ Kollektivs schlägt er nun auch\ndie Brücke ins Producing – immer auf der Suche nach dem nächsten hypnotischen Moment
URL:https://www.fade-club.de/event/schichtwechsel/
LOCATION:Fade Club\, Am Hawerkamp 31\, Münster\, Nordrhein-Westfalen\, 48155\, Germany
ATTACH;FMTTYPE=image/jpeg:https://www.fade-club.de/wp-content/uploads/2025/10/Schichtwechsel_Feed_4x5_11-14.jpg
END:VEVENT
END:VCALENDAR