BEGIN:VCALENDAR
VERSION:2.0
PRODID:-//Fade Club - ECPv6.15.20//NONSGML v1.0//EN
CALSCALE:GREGORIAN
METHOD:PUBLISH
X-WR-CALNAME:Fade Club
X-ORIGINAL-URL:https://www.fade-club.de
X-WR-CALDESC:Veranstaltungen für Fade Club
REFRESH-INTERVAL;VALUE=DURATION:PT1H
X-Robots-Tag:noindex
X-PUBLISHED-TTL:PT1H
BEGIN:VTIMEZONE
TZID:Europe/Berlin
BEGIN:DAYLIGHT
TZOFFSETFROM:+0100
TZOFFSETTO:+0200
TZNAME:CEST
DTSTART:20240331T010000
END:DAYLIGHT
BEGIN:STANDARD
TZOFFSETFROM:+0200
TZOFFSETTO:+0100
TZNAME:CET
DTSTART:20241027T010000
END:STANDARD
BEGIN:DAYLIGHT
TZOFFSETFROM:+0100
TZOFFSETTO:+0200
TZNAME:CEST
DTSTART:20250330T010000
END:DAYLIGHT
BEGIN:STANDARD
TZOFFSETFROM:+0200
TZOFFSETTO:+0100
TZNAME:CET
DTSTART:20251026T010000
END:STANDARD
BEGIN:DAYLIGHT
TZOFFSETFROM:+0100
TZOFFSETTO:+0200
TZNAME:CEST
DTSTART:20260329T010000
END:DAYLIGHT
BEGIN:STANDARD
TZOFFSETFROM:+0200
TZOFFSETTO:+0100
TZNAME:CET
DTSTART:20261025T010000
END:STANDARD
END:VTIMEZONE
BEGIN:VEVENT
DTSTART;TZID=Europe/Berlin:20251101T235900
DTEND;TZID=Europe/Berlin:20251102T050000
DTSTAMP:20260425T062326
CREATED:20251021T155020Z
LAST-MODIFIED:20251021T163659Z
UID:2729-1762041540-1762059600@www.fade-club.de
SUMMARY:FLUID x Tatort
DESCRIPTION:FADE into a psychedelic journey as FLUID and TATORT KOLLEKTIV join forces to bring you a\nbrand-new psytrance event in Münster’s club culture.\nFirst\, FLUID’s HIGH MO and JONNY HORSE will set the tone with a well-curated mix of proggy\nand psy\, as we celebrate Jonny’s birthday together with you.\nLater\, TATORT KOLLEKTIV’s MILKY WAY and TONICHGUT x LATENT will take over the dance\nfloor\, guiding you through the darker and faster realms of psytrance.\nTo top it oﬀ\, @optic_noise_decoration —known for his artwork at Waldfrieden Wonderland and\nmany other events—will transform the main floor\, while TATORT KOLLEKTIV creates the perfect\nvibe in the chillout area\, just as they’re known for.\nThere’ll also be shops featuring art\, jewelry\, shirts\, and more—perfect for a little exploration or\neven a spontaneous shopping spree.\nSee you on Saturday\, November 1st\, at the new FADE CLUB!
URL:https://www.fade-club.de/event/fluid-x-tatort/
LOCATION:Fade Club\, Am Hawerkamp 31\, Münster\, Nordrhein-Westfalen\, 48155\, Germany
ATTACH;FMTTYPE=image/png:https://www.fade-club.de/wp-content/uploads/2025/10/4-3.png
END:VEVENT
END:VCALENDAR