BEGIN:VCALENDAR
VERSION:2.0
PRODID:-//Fade Club - ECPv6.15.20//NONSGML v1.0//EN
CALSCALE:GREGORIAN
METHOD:PUBLISH
X-ORIGINAL-URL:https://www.fade-club.de
X-WR-CALDESC:Veranstaltungen für Fade Club
REFRESH-INTERVAL;VALUE=DURATION:PT1H
X-Robots-Tag:noindex
X-PUBLISHED-TTL:PT1H
BEGIN:VTIMEZONE
TZID:Europe/Berlin
BEGIN:DAYLIGHT
TZOFFSETFROM:+0100
TZOFFSETTO:+0200
TZNAME:CEST
DTSTART:20240331T010000
END:DAYLIGHT
BEGIN:STANDARD
TZOFFSETFROM:+0200
TZOFFSETTO:+0100
TZNAME:CET
DTSTART:20241027T010000
END:STANDARD
BEGIN:DAYLIGHT
TZOFFSETFROM:+0100
TZOFFSETTO:+0200
TZNAME:CEST
DTSTART:20250330T010000
END:DAYLIGHT
BEGIN:STANDARD
TZOFFSETFROM:+0200
TZOFFSETTO:+0100
TZNAME:CET
DTSTART:20251026T010000
END:STANDARD
BEGIN:DAYLIGHT
TZOFFSETFROM:+0100
TZOFFSETTO:+0200
TZNAME:CEST
DTSTART:20260329T010000
END:DAYLIGHT
BEGIN:STANDARD
TZOFFSETFROM:+0200
TZOFFSETTO:+0100
TZNAME:CET
DTSTART:20261025T010000
END:STANDARD
END:VTIMEZONE
BEGIN:VEVENT
DTSTART;TZID=Europe/Berlin:20250711T230000
DTEND;TZID=Europe/Berlin:20250712T050000
DTSTAMP:20260425T122441
CREATED:20250617T090521Z
LAST-MODIFIED:20250617T090524Z
UID:2431-1752274800-1752296400@www.fade-club.de
SUMMARY:Bassmania
DESCRIPTION:Bassmania XXL on July 11th\, brings you the ultimate club experience\, spread across 5 of the city’s hottest clubs! Each club offers a unique atmosphere and promises an unforgettable night of music\, dancing and good vibes. \nWhat to expect: \n12 floors: each floor has its own style\, from techno and house to drum & bass\, goa trance and hardcore. There’s something for every musical taste! \n7 collectives: The city’s best DJ collectives take control of the floors and bring you the hottest beats. Each crew stands for its own style of music and ensures a non-stop party atmosphere. \nSpectacular visuals: Light shows and visuals of the highest standard that will transport you to another world. \nDrink specials: Enjoy exclusive drinks and special offers at every bar. \nLine-up: A mix of local heroes and international stars will make the night unforgettable. \nAdmission: Tickets in advance are limited – get yours before they sell out! \nDress code: Party Ready! \nTickets!
URL:https://www.fade-club.de/event/bassmania-13/
ATTACH;FMTTYPE=image/jpeg:https://www.fade-club.de/wp-content/uploads/2025/06/WhatsApp-Image-2025-06-17-at-10.15.59-1.jpeg
END:VEVENT
BEGIN:VEVENT
DTSTART;TZID=Europe/Berlin:20250712T235900
DTEND;TZID=Europe/Berlin:20250713T050000
DTSTAMP:20260425T122441
CREATED:20250617T093226Z
LAST-MODIFIED:20250617T093229Z
UID:2438-1752364740-1752382800@www.fade-club.de
SUMMARY:King Kong Kicks
DESCRIPTION:Wild\, wilder\, King Kong Kicks! This shit just hits different! 🔥 \nSounds like: Lola Young\, Kraftklub\, Nina Chuba\, Ritter Lean\, Zartmann\, Ivo Martin\, Ion Miles\, Makko\, Blair Muir\, Boy\, Lorde\, Ikkimel\, Doechii\, The Killers\, Leoniden\, Berq\, Provinz\, Sombr\, Blond\, kasi\, Two Door Cinema Club\, Ski Aggu\, Edwin Rosen\, Florence + The Machine… \nKing Kong kickt in deinen Club und bringt dir eine Nacht wie eine wilde Umarmung\, best Friends mit dem Gefühl von Ankommen und Abgehen\, tanzende Körper gehüllt in Indie-Pop\, der sich wie ein Fluss im liebevollen Mix ins Herz spült\, es regelrecht überschwemmt. 🥳🎉 \nEnergetisch\, sinnlich\, frei\, denn das mit uns ist nicht mehr normal. 🤩 \nWer safe drin sein will\, sichert sich ganz einfach ein Ticket! 🎫 \nSa. 12.07.2025 // 23:59 Uhr // Conny Kramer // Münster \nTickets!
URL:https://www.fade-club.de/event/king-kong-kicks-13/
ATTACH;FMTTYPE=image/png:https://www.fade-club.de/wp-content/uploads/2025/06/2025-07-12-KKKicks-Muenster-Kachel.png
END:VEVENT
END:VCALENDAR