BEGIN:VCALENDAR
VERSION:2.0
PRODID:-//Fade Club - ECPv6.15.20//NONSGML v1.0//EN
CALSCALE:GREGORIAN
METHOD:PUBLISH
X-ORIGINAL-URL:https://www.fade-club.de
X-WR-CALDESC:Veranstaltungen für Fade Club
REFRESH-INTERVAL;VALUE=DURATION:PT1H
X-Robots-Tag:noindex
X-PUBLISHED-TTL:PT1H
BEGIN:VTIMEZONE
TZID:Europe/Berlin
BEGIN:DAYLIGHT
TZOFFSETFROM:+0100
TZOFFSETTO:+0200
TZNAME:CEST
DTSTART:20240331T010000
END:DAYLIGHT
BEGIN:STANDARD
TZOFFSETFROM:+0200
TZOFFSETTO:+0100
TZNAME:CET
DTSTART:20241027T010000
END:STANDARD
BEGIN:DAYLIGHT
TZOFFSETFROM:+0100
TZOFFSETTO:+0200
TZNAME:CEST
DTSTART:20250330T010000
END:DAYLIGHT
BEGIN:STANDARD
TZOFFSETFROM:+0200
TZOFFSETTO:+0100
TZNAME:CET
DTSTART:20251026T010000
END:STANDARD
BEGIN:DAYLIGHT
TZOFFSETFROM:+0100
TZOFFSETTO:+0200
TZNAME:CEST
DTSTART:20260329T010000
END:DAYLIGHT
BEGIN:STANDARD
TZOFFSETFROM:+0200
TZOFFSETTO:+0100
TZNAME:CET
DTSTART:20261025T010000
END:STANDARD
END:VTIMEZONE
BEGIN:VEVENT
DTSTART;TZID=Europe/Berlin:20250621T235900
DTEND;TZID=Europe/Berlin:20250622T050000
DTSTAMP:20260425T135017
CREATED:20250604T104809Z
LAST-MODIFIED:20250612T100939Z
UID:2402-1750550340-1750568400@www.fade-club.de
SUMMARY:Qlash - Queer Party
DESCRIPTION:QLASH – Münsters neue queere Techno-Party \nWir bringen eine neue queere Techno-Party an den Hawerkamp! \nAm Samstag\, den 21. Juni\, verwandeln wir das Conny Kramer in einen Ort für alle\, die frei tanzen wollen!. \nMusik: Techno\, Elektro\, House \nQueere und lokale DJs an den DecksFür Queers\, Allys & alle\, die feiern wollen ohne Grenzen \nWir schaffen einen Safe Space\, in dem du sein darfst wer du bist – ob in Netz\, Drag\, Leder oder T-Shirt. \nKein Platz für Rassismus\, Sexismus\, Transphobie oder andere Diskriminierung. \nNur Techno\, Licht und Ihr! \nWo: Conny Kramer · Hawerkamp 31Doors: 23:59 UhrEintritt: 10€ VVK12€ Abendkasse \nTickets!
URL:https://www.fade-club.de/event/qlash-queer-party/
ATTACH;FMTTYPE=image/jpeg:https://www.fade-club.de/wp-content/uploads/2025/06/WhatsApp-Image-2025-06-04-at-12.41.18-1.jpeg
END:VEVENT
END:VCALENDAR