BEGIN:VCALENDAR
VERSION:2.0
PRODID:-//Fade Club - ECPv6.15.20//NONSGML v1.0//EN
CALSCALE:GREGORIAN
METHOD:PUBLISH
X-WR-CALNAME:Fade Club
X-ORIGINAL-URL:https://www.fade-club.de
X-WR-CALDESC:Veranstaltungen für Fade Club
REFRESH-INTERVAL;VALUE=DURATION:PT1H
X-Robots-Tag:noindex
X-PUBLISHED-TTL:PT1H
BEGIN:VTIMEZONE
TZID:Europe/Berlin
BEGIN:DAYLIGHT
TZOFFSETFROM:+0100
TZOFFSETTO:+0200
TZNAME:CEST
DTSTART:20240331T010000
END:DAYLIGHT
BEGIN:STANDARD
TZOFFSETFROM:+0200
TZOFFSETTO:+0100
TZNAME:CET
DTSTART:20241027T010000
END:STANDARD
BEGIN:DAYLIGHT
TZOFFSETFROM:+0100
TZOFFSETTO:+0200
TZNAME:CEST
DTSTART:20250330T010000
END:DAYLIGHT
BEGIN:STANDARD
TZOFFSETFROM:+0200
TZOFFSETTO:+0100
TZNAME:CET
DTSTART:20251026T010000
END:STANDARD
BEGIN:DAYLIGHT
TZOFFSETFROM:+0100
TZOFFSETTO:+0200
TZNAME:CEST
DTSTART:20260329T010000
END:DAYLIGHT
BEGIN:STANDARD
TZOFFSETFROM:+0200
TZOFFSETTO:+0100
TZNAME:CET
DTSTART:20261025T010000
END:STANDARD
END:VTIMEZONE
BEGIN:VEVENT
DTSTART;TZID=Europe/Berlin:20250606T230000
DTEND;TZID=Europe/Berlin:20250607T050000
DTSTAMP:20260425T134554
CREATED:20250515T112750Z
LAST-MODIFIED:20250515T112753Z
UID:2390-1749250800-1749272400@www.fade-club.de
SUMMARY:Wir Kinder vom Hawerkamp
DESCRIPTION:WKvH 06.06.25Start: 23hEntry: 10€ Box Office OnlyFusion Club (Vinyl Love)Conny Kramer (Hosted by 538) \nLine-up: \nDennis SiemionDIN A8RISTORenzoPablitoRed Mojo b2b M.A.S.C.Radikarla
URL:https://www.fade-club.de/event/wir-kinder-vom-hawerkamp-2/
ATTACH;FMTTYPE=image/jpeg:https://www.fade-club.de/wp-content/uploads/2025/05/fu_insta-feed_wkvh-1.jpg
END:VEVENT
END:VCALENDAR