BEGIN:VCALENDAR
VERSION:2.0
PRODID:-//Fade Club - ECPv6.15.20//NONSGML v1.0//EN
CALSCALE:GREGORIAN
METHOD:PUBLISH
X-ORIGINAL-URL:https://www.fade-club.de
X-WR-CALDESC:Veranstaltungen für Fade Club
REFRESH-INTERVAL;VALUE=DURATION:PT1H
X-Robots-Tag:noindex
X-PUBLISHED-TTL:PT1H
BEGIN:VTIMEZONE
TZID:Europe/Berlin
BEGIN:DAYLIGHT
TZOFFSETFROM:+0100
TZOFFSETTO:+0200
TZNAME:CEST
DTSTART:20240331T010000
END:DAYLIGHT
BEGIN:STANDARD
TZOFFSETFROM:+0200
TZOFFSETTO:+0100
TZNAME:CET
DTSTART:20241027T010000
END:STANDARD
BEGIN:DAYLIGHT
TZOFFSETFROM:+0100
TZOFFSETTO:+0200
TZNAME:CEST
DTSTART:20250330T010000
END:DAYLIGHT
BEGIN:STANDARD
TZOFFSETFROM:+0200
TZOFFSETTO:+0100
TZNAME:CET
DTSTART:20251026T010000
END:STANDARD
BEGIN:DAYLIGHT
TZOFFSETFROM:+0100
TZOFFSETTO:+0200
TZNAME:CEST
DTSTART:20260329T010000
END:DAYLIGHT
BEGIN:STANDARD
TZOFFSETFROM:+0200
TZOFFSETTO:+0100
TZNAME:CET
DTSTART:20261025T010000
END:STANDARD
END:VTIMEZONE
BEGIN:VEVENT
DTSTART;TZID=Europe/Berlin:20250517T235900
DTEND;TZID=Europe/Berlin:20250518T050000
DTSTAMP:20260425T150655
CREATED:20250422T100411Z
LAST-MODIFIED:20250422T100414Z
UID:2317-1747526340-1747544400@www.fade-club.de
SUMMARY:Brat Party
DESCRIPTION:münster 🔥 #bratisalifestyle \nFace stickers and green nail set to pop music. 💚 \nThis night captures blurry memories with a disposable camera and shuffles the iPod through a hot mix of all the bangers from charli xcx and other brat coded artists. \nBrat summer is not a season – it’s a lifestyle! \nGet your ticket now! \n 
URL:https://www.fade-club.de/event/brat-party/
ATTACH;FMTTYPE=image/png:https://www.fade-club.de/wp-content/uploads/2025/04/2025-05-17-BP-Muenster-Kachel.png
END:VEVENT
END:VCALENDAR