BEGIN:VCALENDAR
VERSION:2.0
PRODID:-//Fade Club - ECPv6.15.20//NONSGML v1.0//EN
CALSCALE:GREGORIAN
METHOD:PUBLISH
X-ORIGINAL-URL:https://www.fade-club.de
X-WR-CALDESC:Veranstaltungen für Fade Club
REFRESH-INTERVAL;VALUE=DURATION:PT1H
X-Robots-Tag:noindex
X-PUBLISHED-TTL:PT1H
BEGIN:VTIMEZONE
TZID:Europe/Berlin
BEGIN:DAYLIGHT
TZOFFSETFROM:+0100
TZOFFSETTO:+0200
TZNAME:CEST
DTSTART:20240331T010000
END:DAYLIGHT
BEGIN:STANDARD
TZOFFSETFROM:+0200
TZOFFSETTO:+0100
TZNAME:CET
DTSTART:20241027T010000
END:STANDARD
BEGIN:DAYLIGHT
TZOFFSETFROM:+0100
TZOFFSETTO:+0200
TZNAME:CEST
DTSTART:20250330T010000
END:DAYLIGHT
BEGIN:STANDARD
TZOFFSETFROM:+0200
TZOFFSETTO:+0100
TZNAME:CET
DTSTART:20251026T010000
END:STANDARD
BEGIN:DAYLIGHT
TZOFFSETFROM:+0100
TZOFFSETTO:+0200
TZNAME:CEST
DTSTART:20260329T010000
END:DAYLIGHT
BEGIN:STANDARD
TZOFFSETFROM:+0200
TZOFFSETTO:+0100
TZNAME:CET
DTSTART:20261025T010000
END:STANDARD
END:VTIMEZONE
BEGIN:VEVENT
DTSTART;TZID=Europe/Berlin:20250503T235900
DTEND;TZID=Europe/Berlin:20250504T050000
DTSTAMP:20260425T150631
CREATED:20250408T084111Z
LAST-MODIFIED:20250408T084114Z
UID:2306-1746316740-1746334800@www.fade-club.de
SUMMARY:King Kong Kicks
DESCRIPTION:Wild\, wilder\, King Kong Kicks! This shit just hits different! 🔥 \nSounds like: Ennio\, Berq\, Fred Again\, Marlon Hoffstadt\, Dilla\, Giant Rooks\, Edwin Rosen\, Mando Diao\, Mayberg\, Kasi\, Florence and the machine\, Brutalismus 3000\, Paulwetz\, Royel Otis\, Paula Carolina\, Bibiza\, Southstar\, Ski Aggu\, Arctic Monkeys\, Blond…. \nKing Kong kickt in deinen Club und bringt dir eine Nacht wie eine wilde Umarmung\, best Friends mit dem Gefühl von Ankommen und Abgehen\, tanzende Körper gehüllt in Indie-Pop\, der sich wie ein Fluss im liebevollen Mix ins Herz spült\, es regelrecht überschwemmt. 🥳🎉 \nEnergetisch\, sinnlich\, frei\, denn das mit uns ist nicht mehr normal. 🤩 \nWer safe drin sein will\, sichert sich ganz einfach ein Ticket! 🎫 \nSa. 03.05.25 // 23:59 Uhr // Conny Kramer // Münster \nTickets!
URL:https://www.fade-club.de/event/king-kong-kicks-12/
ATTACH;FMTTYPE=image/png:https://www.fade-club.de/wp-content/uploads/2025/04/2025-05-03-KKKicks-Muenster_Feed-1-2-1-1-1.png
END:VEVENT
END:VCALENDAR