BEGIN:VCALENDAR
VERSION:2.0
PRODID:-//Fade Club - ECPv6.15.20//NONSGML v1.0//EN
CALSCALE:GREGORIAN
METHOD:PUBLISH
X-WR-CALNAME:Fade Club
X-ORIGINAL-URL:https://www.fade-club.de
X-WR-CALDESC:Veranstaltungen für Fade Club
REFRESH-INTERVAL;VALUE=DURATION:PT1H
X-Robots-Tag:noindex
X-PUBLISHED-TTL:PT1H
BEGIN:VTIMEZONE
TZID:Europe/Berlin
BEGIN:DAYLIGHT
TZOFFSETFROM:+0100
TZOFFSETTO:+0200
TZNAME:CEST
DTSTART:20240331T010000
END:DAYLIGHT
BEGIN:STANDARD
TZOFFSETFROM:+0200
TZOFFSETTO:+0100
TZNAME:CET
DTSTART:20241027T010000
END:STANDARD
BEGIN:DAYLIGHT
TZOFFSETFROM:+0100
TZOFFSETTO:+0200
TZNAME:CEST
DTSTART:20250330T010000
END:DAYLIGHT
BEGIN:STANDARD
TZOFFSETFROM:+0200
TZOFFSETTO:+0100
TZNAME:CET
DTSTART:20251026T010000
END:STANDARD
BEGIN:DAYLIGHT
TZOFFSETFROM:+0100
TZOFFSETTO:+0200
TZNAME:CEST
DTSTART:20260329T010000
END:DAYLIGHT
BEGIN:STANDARD
TZOFFSETFROM:+0200
TZOFFSETTO:+0100
TZNAME:CET
DTSTART:20261025T010000
END:STANDARD
END:VTIMEZONE
BEGIN:VEVENT
DTSTART;TZID=Europe/Berlin:20250221T220000
DTEND;TZID=Europe/Berlin:20250222T000000
DTSTAMP:20260425T191345
CREATED:20250116T080024Z
LAST-MODIFIED:20250116T080112Z
UID:2158-1740175200-1740182400@www.fade-club.de
SUMMARY:Bassmania
DESCRIPTION:Das erste Bassmaniafestival des Jahres fängt diesmal im Februar an\, statt im April! \nDiesmal eröffnen wir schon um 22 Uhr\, damit wir den hohen Andrang stand halten können und später niemand lange in der Schlange stehen muss.Außerdem haben wir jetzt 5 Kassen mit Ticketscannern \, statt nur 2\, um die Wartezeiten gering zu halten. \nACHTUNG: \nWer sein Ticket vor dem 15. Januar holt\, zahlt nur 20€. \nWer sein Ticket zwischen dem 15. und 31. Januar holt\, zahlt 21\,5€. \nTickets vom 1. bis zum 14. Februar kosten 23€ \nAb dem 14. Februar\, kostet jedes Ticket 25€ \n  \nTickets here! \n  \nLine ups\, Timetables\, Gewinnspiele und vieles mehr\, findet ihr demnächst auf dem Instaprofil @bassmania_official
URL:https://www.fade-club.de/event/bassmania-10/
ATTACH;FMTTYPE=image/jpeg:https://www.fade-club.de/wp-content/uploads/2025/01/WhatsApp-Image-2025-01-15-at-12.26.49-PM-1.jpeg
END:VEVENT
END:VCALENDAR