BEGIN:VCALENDAR
VERSION:2.0
PRODID:-//Fade Club - ECPv6.15.20//NONSGML v1.0//EN
CALSCALE:GREGORIAN
METHOD:PUBLISH
X-WR-CALNAME:Fade Club
X-ORIGINAL-URL:https://www.fade-club.de
X-WR-CALDESC:Veranstaltungen für Fade Club
REFRESH-INTERVAL;VALUE=DURATION:PT1H
X-Robots-Tag:noindex
X-PUBLISHED-TTL:PT1H
BEGIN:VTIMEZONE
TZID:Europe/Berlin
BEGIN:DAYLIGHT
TZOFFSETFROM:+0100
TZOFFSETTO:+0200
TZNAME:CEST
DTSTART:20230326T010000
END:DAYLIGHT
BEGIN:STANDARD
TZOFFSETFROM:+0200
TZOFFSETTO:+0100
TZNAME:CET
DTSTART:20231029T010000
END:STANDARD
BEGIN:DAYLIGHT
TZOFFSETFROM:+0100
TZOFFSETTO:+0200
TZNAME:CEST
DTSTART:20240331T010000
END:DAYLIGHT
BEGIN:STANDARD
TZOFFSETFROM:+0200
TZOFFSETTO:+0100
TZNAME:CET
DTSTART:20241027T010000
END:STANDARD
BEGIN:DAYLIGHT
TZOFFSETFROM:+0100
TZOFFSETTO:+0200
TZNAME:CEST
DTSTART:20250330T010000
END:DAYLIGHT
BEGIN:STANDARD
TZOFFSETFROM:+0200
TZOFFSETTO:+0100
TZNAME:CET
DTSTART:20251026T010000
END:STANDARD
END:VTIMEZONE
BEGIN:VEVENT
DTSTART;TZID=Europe/Berlin:20241225T235900
DTEND;TZID=Europe/Berlin:20241226T050000
DTSTAMP:20260425T221849
CREATED:20241211T105131Z
LAST-MODIFIED:20241211T110136Z
UID:2136-1735171140-1735189200@www.fade-club.de
SUMMARY:Pride Party - Christmas Edition
DESCRIPTION:PRIDE PARTY – CHRISTMAS EDITION – Save the Date! \nQueer Christmas\, aber heißer! 🌈🔥 \nAm 1. Weihnachtsfeiertag lassen wir Besinnlichkeit und Weihnachtsstress hinter uns und tauchen ein in eine Nacht voller Glanz\, Ekstase und Leidenschaft.Mit DJANE KÄRY an den Decks erwartet euch ein Sound\, der unter die Haut geht – von treibenden Beats bis hin zu sexy Christmas-Tunes mit einer extra Portion Queerness. 💋🎶 \nDiese Party könnte die letzte ihrer Art sein. 👀 Wenn es also je einen Moment gab\, alles rauszulassen und euch hinzugeben\, dann jetzt! ❤️ \n📅25. Dezember 2024 |📍Conny Kramer \n⏰ Start: 23:59 Uhr \n🎟 VVK: 10 € | AK: 12 € \n  \nTickets here! \n  \n#gay #queer #münsterland #ms4life #lesbianlove #loveislove #queermünster
URL:https://www.fade-club.de/event/pride-party-christmas-edition/
ATTACH;FMTTYPE=image/jpeg:https://www.fade-club.de/wp-content/uploads/2024/12/pri.jpg
END:VEVENT
END:VCALENDAR