BEGIN:VCALENDAR
VERSION:2.0
PRODID:-//Fade Club - ECPv6.15.20//NONSGML v1.0//EN
CALSCALE:GREGORIAN
METHOD:PUBLISH
X-WR-CALNAME:Fade Club
X-ORIGINAL-URL:https://www.fade-club.de
X-WR-CALDESC:Veranstaltungen für Fade Club
REFRESH-INTERVAL;VALUE=DURATION:PT1H
X-Robots-Tag:noindex
X-PUBLISHED-TTL:PT1H
BEGIN:VTIMEZONE
TZID:Europe/Berlin
BEGIN:DAYLIGHT
TZOFFSETFROM:+0100
TZOFFSETTO:+0200
TZNAME:CEST
DTSTART:20230326T010000
END:DAYLIGHT
BEGIN:STANDARD
TZOFFSETFROM:+0200
TZOFFSETTO:+0100
TZNAME:CET
DTSTART:20231029T010000
END:STANDARD
BEGIN:DAYLIGHT
TZOFFSETFROM:+0100
TZOFFSETTO:+0200
TZNAME:CEST
DTSTART:20240331T010000
END:DAYLIGHT
BEGIN:STANDARD
TZOFFSETFROM:+0200
TZOFFSETTO:+0100
TZNAME:CET
DTSTART:20241027T010000
END:STANDARD
BEGIN:DAYLIGHT
TZOFFSETFROM:+0100
TZOFFSETTO:+0200
TZNAME:CEST
DTSTART:20250330T010000
END:DAYLIGHT
BEGIN:STANDARD
TZOFFSETFROM:+0200
TZOFFSETTO:+0100
TZNAME:CET
DTSTART:20251026T010000
END:STANDARD
END:VTIMEZONE
BEGIN:VEVENT
DTSTART;TZID=Europe/Berlin:20241123T235900
DTEND;TZID=Europe/Berlin:20241124T050000
DTSTAMP:20260425T235002
CREATED:20241016T113530Z
LAST-MODIFIED:20241016T113639Z
UID:2034-1732406340-1732424400@www.fade-club.de
SUMMARY:Peinlo Pop Party
DESCRIPTION:Sounds like: \nAvril Lavigne • Vanessa Carlton • Taylor Swift • Fergie • t.A.T.u • Gwen Stefani • One Direction • Jonas Brothers • Akon • Justin Bieber • Kelly Clarkson • Shakira • Miley Cyrus • Ronan Keating • Charlie Puth • Natasha Bedingfield • Madonna • Natalie Imbruglia • Ed Sheeran • Rihanna • Kylie Minogue • Britney Spears • Sugarbabes • Justin Timberlake • Nicki Minaj • Panic! at the Disco • Harry Styles • Usher • Pitbull • The Pussycat Dolls • Cro \n  \nDie halbvolle Flasche vorm Club fallenlassen ist peinlo. \nBeim Ausrasten den Haustürschlüssel verlieren ist auch peinlo. \nDen Namen deiner Knutschbekanntschaft vergessen ist mega peinlo. \nAber Peinlo ist auch deine Lieblingsparty mit Pop-Hits-Geballer\, aufgefüllt mit Awkward Darlings\, Guilty Pleasures & TikTok Moves. \nAlso Handy hoch\, schwitzen und singen\, denn You know it’s not the same as it was. \n  \nSichere Dir jetzt dein Ticket. \nTickets here! \n 
URL:https://www.fade-club.de/event/peinlo-pop-party-2/
ATTACH;FMTTYPE=image/png:https://www.fade-club.de/wp-content/uploads/2024/10/ha.png
END:VEVENT
END:VCALENDAR