BEGIN:VCALENDAR
VERSION:2.0
PRODID:-//Fade Club - ECPv6.15.20//NONSGML v1.0//EN
CALSCALE:GREGORIAN
METHOD:PUBLISH
X-ORIGINAL-URL:https://www.fade-club.de
X-WR-CALDESC:Veranstaltungen für Fade Club
REFRESH-INTERVAL;VALUE=DURATION:PT1H
X-Robots-Tag:noindex
X-PUBLISHED-TTL:PT1H
BEGIN:VTIMEZONE
TZID:Europe/Berlin
BEGIN:DAYLIGHT
TZOFFSETFROM:+0100
TZOFFSETTO:+0200
TZNAME:CEST
DTSTART:20230326T010000
END:DAYLIGHT
BEGIN:STANDARD
TZOFFSETFROM:+0200
TZOFFSETTO:+0100
TZNAME:CET
DTSTART:20231029T010000
END:STANDARD
BEGIN:DAYLIGHT
TZOFFSETFROM:+0100
TZOFFSETTO:+0200
TZNAME:CEST
DTSTART:20240331T010000
END:DAYLIGHT
BEGIN:STANDARD
TZOFFSETFROM:+0200
TZOFFSETTO:+0100
TZNAME:CET
DTSTART:20241027T010000
END:STANDARD
BEGIN:DAYLIGHT
TZOFFSETFROM:+0100
TZOFFSETTO:+0200
TZNAME:CEST
DTSTART:20250330T010000
END:DAYLIGHT
BEGIN:STANDARD
TZOFFSETFROM:+0200
TZOFFSETTO:+0100
TZNAME:CET
DTSTART:20251026T010000
END:STANDARD
END:VTIMEZONE
BEGIN:VEVENT
DTSTART;TZID=Europe/Berlin:20241122T235900
DTEND;TZID=Europe/Berlin:20241123T050000
DTSTAMP:20260425T235127
CREATED:20241106T075923Z
LAST-MODIFIED:20241106T080029Z
UID:2084-1732319940-1732338000@www.fade-club.de
SUMMARY:Mischstation
DESCRIPTION:We are happy to announce our next party: The first Mischstation Resident night at Conny Kramer in Münster! \nOn November 22nd we will dance through the night\, with great DJs an awesome light show and some specials for you. \nGenres: Techno / Hardtechno / Industrial Techno \n🎧LINE UP🎧Alexa KovaBassbaronMadedAzentiLEWØW.D.S \n🎟️TICKETS🎟️EARLY BIRD: 7.50€LATE BIRD: 8.50€BOX OFFICE: 12€ \n🚨BOX OFFICE ONLY CASH🚨➡️ At the bar only card payment \nEarly bird tickets available now !! \nTickets here! \nWe are looking forward to see you on the dance floor🕺🏼🫶🏼🫶🏼
URL:https://www.fade-club.de/event/mischstation-2/
ATTACH;FMTTYPE=image/jpeg:https://www.fade-club.de/wp-content/uploads/2024/11/WhatsApp-Image-2024-10-31-at-9.04.23-AM.jpeg
END:VEVENT
END:VCALENDAR