BEGIN:VCALENDAR
VERSION:2.0
PRODID:-//Fade Club - ECPv6.15.20//NONSGML v1.0//EN
CALSCALE:GREGORIAN
METHOD:PUBLISH
X-ORIGINAL-URL:https://www.fade-club.de
X-WR-CALDESC:Veranstaltungen für Fade Club
REFRESH-INTERVAL;VALUE=DURATION:PT1H
X-Robots-Tag:noindex
X-PUBLISHED-TTL:PT1H
BEGIN:VTIMEZONE
TZID:Europe/Berlin
BEGIN:DAYLIGHT
TZOFFSETFROM:+0100
TZOFFSETTO:+0200
TZNAME:CEST
DTSTART:20230326T010000
END:DAYLIGHT
BEGIN:STANDARD
TZOFFSETFROM:+0200
TZOFFSETTO:+0100
TZNAME:CET
DTSTART:20231029T010000
END:STANDARD
BEGIN:DAYLIGHT
TZOFFSETFROM:+0100
TZOFFSETTO:+0200
TZNAME:CEST
DTSTART:20240331T010000
END:DAYLIGHT
BEGIN:STANDARD
TZOFFSETFROM:+0200
TZOFFSETTO:+0100
TZNAME:CET
DTSTART:20241027T010000
END:STANDARD
BEGIN:DAYLIGHT
TZOFFSETFROM:+0100
TZOFFSETTO:+0200
TZNAME:CEST
DTSTART:20250330T010000
END:DAYLIGHT
BEGIN:STANDARD
TZOFFSETFROM:+0200
TZOFFSETTO:+0100
TZNAME:CET
DTSTART:20251026T010000
END:STANDARD
END:VTIMEZONE
BEGIN:VEVENT
DTSTART;TZID=Europe/Berlin:20241115T235900
DTEND;TZID=Europe/Berlin:20241116T050000
DTSTAMP:20260425T235206
CREATED:20241023T100100Z
LAST-MODIFIED:20241023T100239Z
UID:2047-1731715140-1731733200@www.fade-club.de
SUMMARY:Richtig DICK Techno!
DESCRIPTION:Wir feiern unglaubliche 10 Jahre Richtig DICK Techno!Danach werden wir eine kleine kreative Pause einlegen\, 10 Jahre sind ein guter Meilenstein um zu verschnaufen und mit frischer Kraft neu zu starten!Für den Anlass haben wir mit Tiefundton und Woodpecker noch mal schwere Geschütze aufgefahren.Wir hoffen noch einmal auf viele bekannte und unbekannte Gesichter um diesen Anlass ordentlich feiern zu können! \n  \nTickets here!
URL:https://www.fade-club.de/event/richtig-dick-techno-2/
ATTACH;FMTTYPE=image/jpeg:https://www.fade-club.de/wp-content/uploads/2024/10/WhatsApp-Image-2024-10-21-at-1.44.52-PM-1.jpeg
END:VEVENT
BEGIN:VEVENT
DTSTART;TZID=Europe/Berlin:20241116T190000
DTEND;TZID=Europe/Berlin:20241117T140000
DTSTAMP:20260425T235206
CREATED:20241009T134732Z
LAST-MODIFIED:20241009T135839Z
UID:1986-1731783600-1731852000@www.fade-club.de
SUMMARY:BORIS BREJCHA | HALLE MÜNSTERLAND
DESCRIPTION:Join us for an unforgettable night as Docklands Festival presents Boris Brejcha live at Halle Münsterland on November 16th!\nBoris Brejcha’s unique „High-Tech Minimal“ genre has gained international acclaim\, leading to performances at almost all major festivals and impressive solo shows around the globe. His distinctive Joker mask\, inspired by the Brazilian Carnival\, symbolizes his innovative sound and electrifying performances.With his label Fckng Serious and numerous releases\, Boris has solidified his place in the electronic music scene. Boasting over 140 million views on YouTube and recognition from DJ-Mag\, he continues to captivate audiences worldwide. Don’t miss this chance to experience his extraordinary music and vibrant stage presence live in Münster on November 16th.\nSecure your tickets now for an evening of High-Tech Minimal with Boris Brejcha\, and enjoy performances by the Fckng Serious crew\, including Ann Clue and Deniz Bul\, to round off the night. Right after the we’ll continue our indoor Festival at the Hawerkamp Clubs with more than 20 additional artists.\n  \nTickets here!
URL:https://www.fade-club.de/event/boris-brejcha-halle-muensterland/
ATTACH;FMTTYPE=image/png:https://www.fade-club.de/wp-content/uploads/2024/10/280624_Docklands_BorisBrejcha_kachel-1.png
END:VEVENT
END:VCALENDAR