BEGIN:VCALENDAR
VERSION:2.0
PRODID:-//Fade Club - ECPv6.15.20//NONSGML v1.0//EN
CALSCALE:GREGORIAN
METHOD:PUBLISH
X-ORIGINAL-URL:https://www.fade-club.de
X-WR-CALDESC:Veranstaltungen für Fade Club
REFRESH-INTERVAL;VALUE=DURATION:PT1H
X-Robots-Tag:noindex
X-PUBLISHED-TTL:PT1H
BEGIN:VTIMEZONE
TZID:Europe/Berlin
BEGIN:DAYLIGHT
TZOFFSETFROM:+0100
TZOFFSETTO:+0200
TZNAME:CEST
DTSTART:20230326T010000
END:DAYLIGHT
BEGIN:STANDARD
TZOFFSETFROM:+0200
TZOFFSETTO:+0100
TZNAME:CET
DTSTART:20231029T010000
END:STANDARD
BEGIN:DAYLIGHT
TZOFFSETFROM:+0100
TZOFFSETTO:+0200
TZNAME:CEST
DTSTART:20240331T010000
END:DAYLIGHT
BEGIN:STANDARD
TZOFFSETFROM:+0200
TZOFFSETTO:+0100
TZNAME:CET
DTSTART:20241027T010000
END:STANDARD
BEGIN:DAYLIGHT
TZOFFSETFROM:+0100
TZOFFSETTO:+0200
TZNAME:CEST
DTSTART:20250330T010000
END:DAYLIGHT
BEGIN:STANDARD
TZOFFSETFROM:+0200
TZOFFSETTO:+0100
TZNAME:CET
DTSTART:20251026T010000
END:STANDARD
END:VTIMEZONE
BEGIN:VEVENT
DTSTART;TZID=Europe/Berlin:20241108T235900
DTEND;TZID=Europe/Berlin:20241109T050000
DTSTAMP:20260425T235304
CREATED:20241016T103725Z
LAST-MODIFIED:20241106T075953Z
UID:2020-1731110340-1731128400@www.fade-club.de
SUMMARY:Embrace w/ Part Time Killer
DESCRIPTION:Line up:Part Time KillerPechschwarzSsicaAlexa Fluor \n  \nTickets here!
URL:https://www.fade-club.de/event/embrace-w-part-time-killer/
ATTACH;FMTTYPE=image/jpeg:https://www.fade-club.de/wp-content/uploads/2024/10/WhatsApp-Image-2024-10-11-at-5.28.27-PM.jpeg
END:VEVENT
BEGIN:VEVENT
DTSTART;TZID=Europe/Berlin:20241109T235900
DTEND;TZID=Europe/Berlin:20241110T050000
DTSTAMP:20260425T235304
CREATED:20241016T112356Z
LAST-MODIFIED:20241016T120247Z
UID:2029-1731196740-1731214800@www.fade-club.de
SUMMARY:King Kong Kicks
DESCRIPTION:The indie pop party. Though more of an indie addicted open format. This hits different! \nTickets here!
URL:https://www.fade-club.de/event/king-kong-kicks-9/
ATTACH;FMTTYPE=image/png:https://www.fade-club.de/wp-content/uploads/2024/10/2024-11-09-KKKIcks-quadrat-neutral.png
END:VEVENT
END:VCALENDAR