BEGIN:VCALENDAR
VERSION:2.0
PRODID:-//Fade Club - ECPv6.15.20//NONSGML v1.0//EN
CALSCALE:GREGORIAN
METHOD:PUBLISH
X-WR-CALNAME:Fade Club
X-ORIGINAL-URL:https://www.fade-club.de
X-WR-CALDESC:Veranstaltungen für Fade Club
REFRESH-INTERVAL;VALUE=DURATION:PT1H
X-Robots-Tag:noindex
X-PUBLISHED-TTL:PT1H
BEGIN:VTIMEZONE
TZID:Europe/Berlin
BEGIN:DAYLIGHT
TZOFFSETFROM:+0100
TZOFFSETTO:+0200
TZNAME:CEST
DTSTART:20230326T010000
END:DAYLIGHT
BEGIN:STANDARD
TZOFFSETFROM:+0200
TZOFFSETTO:+0100
TZNAME:CET
DTSTART:20231029T010000
END:STANDARD
BEGIN:DAYLIGHT
TZOFFSETFROM:+0100
TZOFFSETTO:+0200
TZNAME:CEST
DTSTART:20240331T010000
END:DAYLIGHT
BEGIN:STANDARD
TZOFFSETFROM:+0200
TZOFFSETTO:+0100
TZNAME:CET
DTSTART:20241027T010000
END:STANDARD
BEGIN:DAYLIGHT
TZOFFSETFROM:+0100
TZOFFSETTO:+0200
TZNAME:CEST
DTSTART:20250330T010000
END:DAYLIGHT
BEGIN:STANDARD
TZOFFSETFROM:+0200
TZOFFSETTO:+0100
TZNAME:CET
DTSTART:20251026T010000
END:STANDARD
END:VTIMEZONE
BEGIN:VEVENT
DTSTART;TZID=Europe/Berlin:20241102T220000
DTEND;TZID=Europe/Berlin:20241103T050000
DTSTAMP:20260425T234958
CREATED:20241016T102019Z
LAST-MODIFIED:20241017T100631Z
UID:2010-1730584800-1730610000@www.fade-club.de
SUMMARY:HardScape
DESCRIPTION:Erlebe die ultimative Nacht der Harder Styles bei HardScape! \nBereite dich auf ein unvergessliches Spektakel vor\, wenn die härtesten Beats und die energiegeladensten Performances aufeinandertreffen! HardScape\, präsentiert von Harder Styles Events\, verspricht eine explosive Nacht voller intensiver Musik\, unglaublicher Lichtshows und einer Atmosphäre\, die dich von den ersten bis zu den letzten Takten mitreißen wird und dich des normalen Alltags entzieht. \n– Aufstrebende Talente: Erlebe die Newcomer der Szene\, die mit ihren frischen Sounds und innovativen Beats die Nacht unvergesslich machen werden.– Epische Soundanlage: Spüre die Bässe und Melodien in deinem ganzen Körper dank unserer erstklassigen Soundtechnik.– Spektakuläre Lichtshows: Erlebe visuelle Effekte\, die perfekt auf die Musik abgestimmt sind und die Nacht zum Leuchten bringen.– Unglaubliche Stimmung: Erlebe die unvergleichliche Atmosphäre und den Zusammenhalt der Harder Styles Community.– Vielseitiges Line-Up: Freue dich auf eine Mischung aus Classics\, Hardstyle\, Rawstyle und mehr – für jeden Fan der härteren Klänge ist etwas dabei!– Entkomm der Realität: Lass den Alltag hinter dir und tauche ein in eine Welt der Musik\, der Gemeinschaft: WE ARE ONE! \nDatum: 02.11.2024Zeit: ab 22:00 UhrOrt: Conny Kramer\, Münster \nSichere dir jetzt dein Ticket und werde Teil eines unvergesslichen Abends bei HardScape! Sei dabei\, wenn die Harder Styles Community zusammenkommt\, um die Nacht durchzutanzen und unvergessliche Momente zu erleben. Tickets sind begrenzt\, also zögere nicht – hol dir dein Ticket jetzt und sei Teil des Spektakels! \n  \nTickets here! \n  \nLet the bass kick and the beats drop – join us for an epic night of Harder Styles at HardScape!
URL:https://www.fade-club.de/event/hardscape/
ATTACH;FMTTYPE=image/jpeg:https://www.fade-club.de/wp-content/uploads/2024/10/WhatsApp-Image-2024-10-16-at-4.04.17-PM-1.jpeg
END:VEVENT
END:VCALENDAR