BEGIN:VCALENDAR
VERSION:2.0
PRODID:-//Fade Club - ECPv6.15.20//NONSGML v1.0//EN
CALSCALE:GREGORIAN
METHOD:PUBLISH
X-WR-CALNAME:Fade Club
X-ORIGINAL-URL:https://www.fade-club.de
X-WR-CALDESC:Veranstaltungen für Fade Club
REFRESH-INTERVAL;VALUE=DURATION:PT1H
X-Robots-Tag:noindex
X-PUBLISHED-TTL:PT1H
BEGIN:VTIMEZONE
TZID:Europe/Berlin
BEGIN:DAYLIGHT
TZOFFSETFROM:+0100
TZOFFSETTO:+0200
TZNAME:CEST
DTSTART:20230326T010000
END:DAYLIGHT
BEGIN:STANDARD
TZOFFSETFROM:+0200
TZOFFSETTO:+0100
TZNAME:CET
DTSTART:20231029T010000
END:STANDARD
BEGIN:DAYLIGHT
TZOFFSETFROM:+0100
TZOFFSETTO:+0200
TZNAME:CEST
DTSTART:20240331T010000
END:DAYLIGHT
BEGIN:STANDARD
TZOFFSETFROM:+0200
TZOFFSETTO:+0100
TZNAME:CET
DTSTART:20241027T010000
END:STANDARD
BEGIN:DAYLIGHT
TZOFFSETFROM:+0100
TZOFFSETTO:+0200
TZNAME:CEST
DTSTART:20250330T010000
END:DAYLIGHT
BEGIN:STANDARD
TZOFFSETFROM:+0200
TZOFFSETTO:+0100
TZNAME:CET
DTSTART:20251026T010000
END:STANDARD
END:VTIMEZONE
BEGIN:VEVENT
DTSTART;TZID=Europe/Berlin:20241016T220000
DTEND;TZID=Europe/Berlin:20241017T050000
DTSTAMP:20260426T010545
CREATED:20240926T104552Z
LAST-MODIFIED:20241014T120916Z
UID:1938-1729116000-1729141200@www.fade-club.de
SUMMARY:Sungora
DESCRIPTION:We are thrilled to announce the Sungora Opening Night at Conny Kramer\, Münster on October 16th\, 2024! For our debut event\, we’ve curated a stellar line-up of top Afro House & House DJs who will set the dancefloor on fire: \n🎧 DAVE from Hamburg: Known for his dynamic sets and infectious beats\, ready to take you on a musical journey.🎧 Jana Nova from Berlin: Bringing the essence of the capital’s underground House scene with her irresistible sound.🎧 Tosca from Valencia: Famed for his vibrant energy and Afro House rhythms that will keep the crowd moving all night. \nThis is the beginning of something special. Be there as Sungora makes its mark in Münster’s nightlife. \n  \nDetails: \nDate: October 16th\, 2024 \nLocation: Conny Kramer \nDoors open at 22:00h \nTickets are available now – get your Ticket and don’t miss out on this night. \nTickets here!
URL:https://www.fade-club.de/event/sungora/
ATTACH;FMTTYPE=image/png:https://www.fade-club.de/wp-content/uploads/2024/09/Afro-House-Graphik.png
END:VEVENT
END:VCALENDAR