BEGIN:VCALENDAR
VERSION:2.0
PRODID:-//Fade Club - ECPv6.15.20//NONSGML v1.0//EN
CALSCALE:GREGORIAN
METHOD:PUBLISH
X-ORIGINAL-URL:https://www.fade-club.de
X-WR-CALDESC:Veranstaltungen für Fade Club
REFRESH-INTERVAL;VALUE=DURATION:PT1H
X-Robots-Tag:noindex
X-PUBLISHED-TTL:PT1H
BEGIN:VTIMEZONE
TZID:Europe/Berlin
BEGIN:DAYLIGHT
TZOFFSETFROM:+0100
TZOFFSETTO:+0200
TZNAME:CEST
DTSTART:20230326T010000
END:DAYLIGHT
BEGIN:STANDARD
TZOFFSETFROM:+0200
TZOFFSETTO:+0100
TZNAME:CET
DTSTART:20231029T010000
END:STANDARD
BEGIN:DAYLIGHT
TZOFFSETFROM:+0100
TZOFFSETTO:+0200
TZNAME:CEST
DTSTART:20240331T010000
END:DAYLIGHT
BEGIN:STANDARD
TZOFFSETFROM:+0200
TZOFFSETTO:+0100
TZNAME:CET
DTSTART:20241027T010000
END:STANDARD
BEGIN:DAYLIGHT
TZOFFSETFROM:+0100
TZOFFSETTO:+0200
TZNAME:CEST
DTSTART:20250330T010000
END:DAYLIGHT
BEGIN:STANDARD
TZOFFSETFROM:+0200
TZOFFSETTO:+0100
TZNAME:CET
DTSTART:20251026T010000
END:STANDARD
END:VTIMEZONE
BEGIN:VEVENT
DTSTART;TZID=Europe/Berlin:20240907T235900
DTEND;TZID=Europe/Berlin:20240908T050000
DTSTAMP:20260426T023836
CREATED:20240826T123840Z
LAST-MODIFIED:20240903T092126Z
UID:1797-1725753540-1725771600@www.fade-club.de
SUMMARY:WE LIKE IT HARD
DESCRIPTION:Münster we are coming back !! We like it hard goes into the second round\, with @dnnsmusic as our Headliner for this event\nWe are happy to announce our next event on September 7th at @connykramer_ms in Münster. We are looking forward to another unforgettable night with you\nTickets\n \nLINE UP:@dnnsmusic@bassbaron.techno@realazenti@lewo.techno@mephistotechno@nautech_su B2b @avalokite_su\nGenres: Industrial Techno / Hardtechno / Hardtrance\n \n \nEARLY BIRD: 8€LATE BIRD: 8\,50€LAST CHANCE:10€GRUPPENTICKETS (5 Personen): 45€BOX OFFICE: 12€\n \nBOX OFFICE ONLY CASH At the bar only card payment\n \n 
URL:https://www.fade-club.de/event/we-like-it-hard/
ATTACH;FMTTYPE=image/jpeg:https://www.fade-club.de/wp-content/uploads/2024/08/WhatsApp-Image-2024-08-26-at-2.17.55-PM.jpeg
END:VEVENT
END:VCALENDAR