BEGIN:VCALENDAR
VERSION:2.0
PRODID:-//Fade Club - ECPv6.15.20//NONSGML v1.0//EN
CALSCALE:GREGORIAN
METHOD:PUBLISH
X-WR-CALNAME:Fade Club
X-ORIGINAL-URL:https://www.fade-club.de
X-WR-CALDESC:Veranstaltungen für Fade Club
REFRESH-INTERVAL;VALUE=DURATION:PT1H
X-Robots-Tag:noindex
X-PUBLISHED-TTL:PT1H
BEGIN:VTIMEZONE
TZID:Europe/Berlin
BEGIN:DAYLIGHT
TZOFFSETFROM:+0100
TZOFFSETTO:+0200
TZNAME:CEST
DTSTART:20230326T010000
END:DAYLIGHT
BEGIN:STANDARD
TZOFFSETFROM:+0200
TZOFFSETTO:+0100
TZNAME:CET
DTSTART:20231029T010000
END:STANDARD
BEGIN:DAYLIGHT
TZOFFSETFROM:+0100
TZOFFSETTO:+0200
TZNAME:CEST
DTSTART:20240331T010000
END:DAYLIGHT
BEGIN:STANDARD
TZOFFSETFROM:+0200
TZOFFSETTO:+0100
TZNAME:CET
DTSTART:20241027T010000
END:STANDARD
BEGIN:DAYLIGHT
TZOFFSETFROM:+0100
TZOFFSETTO:+0200
TZNAME:CEST
DTSTART:20250330T010000
END:DAYLIGHT
BEGIN:STANDARD
TZOFFSETFROM:+0200
TZOFFSETTO:+0100
TZNAME:CET
DTSTART:20251026T010000
END:STANDARD
END:VTIMEZONE
BEGIN:VEVENT
DTSTART;TZID=Europe/Berlin:20240816T230000
DTEND;TZID=Europe/Berlin:20240817T050000
DTSTAMP:20260426T040339
CREATED:20240805T080035Z
LAST-MODIFIED:20240805T095344Z
UID:1741-1723849200-1723870800@www.fade-club.de
SUMMARY:Bassmania
DESCRIPTION:More Information tba. \nTickets\n 
URL:https://www.fade-club.de/event/bassmania-7/
LOCATION:Fusion & Conny Kramer
ATTACH;FMTTYPE=image/jpeg:https://www.fade-club.de/wp-content/uploads/2024/08/Download-3.jpeg
END:VEVENT
END:VCALENDAR